BEGIN:VCALENDAR
VERSION:2.0
PRODID:-//ChamberMaster//Event Calendar 2.0//EN
METHOD:PUBLISH
X-PUBLISHED-TTL:P3D
REFRESH-INTERVAL:P3D
CALSCALE:GREGORIAN
BEGIN:VEVENT
DTSTART:20210517T010000Z
DTEND:20210521T030000Z
X-MICROSOFT-CDO-ALLDAYEVENT:FALSE
SUMMARY:2021 Virtual Philippines Business Mission
DESCRIPTION:The US-ASEAN Business Council is registering members for its 2021 Virtual Philippines Business Mission on May 17-21\, 2021 Manila/SGT. This virtual mission will offer members an opportunity to discuss priority trade and investment policy issues with key Philippine Government officials including leading members of the Duterte Cabinet and members of the bicameral Philippine legislature. The virtual mission will be a series of interactive Zoom sessions timed for participants based in Southeast Asia and the United States to be able to join. \n\n\n\nRegistration link: https://www.usasean.org/mission/registration\n\n\n\nNote: The deadline for receipt of mission materials is COB Monday\, May 3\, 2021. After this date\, your company details may not be included in the briefing materials presented to the government. Applicable mission registration fees and the no refund policy are outlined under Mission Costs.\n\n  \n\n \n\nMission Themes\n\nThe Council suggests that the following overarching themes can be used to frame company specific messages and/or policy advocacy reform priorities for this mission:\n1.  Continue to support COVID-19 response and recovery\n\n2.  Accelerate digital transformation   \n 3.  Promote ease of doing business and economic liberalization measures \n\n4.  Reinforce US-Philippines bilateral ties for regional peace and security
X-ALT-DESC;FMTTYPE=text/html:<span style="color: rgb(0\, 0\, 0)\; font-family: arial\, sans-serif\; font-size: 16px\;">The US-ASEAN Business Council is registering members for its&nbsp\;</span><strong style="color: rgb(0\, 0\, 0)\; font-family: arial\, sans-serif\; font-size: 16px\;">2021&nbsp\;<strong>Virtual Philippines Business Mission on May 17-21\, 2021 Manila/SGT.</strong></strong><span style="color: rgb(0\, 0\, 0)\; font-family: arial\, sans-serif\; font-size: 16px\;">&nbsp\;This virtual mission will offer members an opportunity to discuss priority&nbsp\;trade and investment policy issues with key Philippine Government officials including leading members of the Duterte Cabinet and members of the bicameral Philippine legislature. The virtual mission will be a series of interactive Zoom sessions timed for participants based in Southeast Asia and the United States to be able to join.&nbsp\;</span><br />\n<br />\n<span style="box-sizing: border-box\; font-size: 16px\; outline: 0px\; color: rgb(0\, 0\, 0)\; font-family: arial\;"><span class="LineBreakBlob BlobObject DragDrop SCXW217735149 BCX0" style="box-sizing: border-box\; outline: 0px\; background-color: transparent\; margin: 0px\; padding: 0px\; user-select: text\; -webkit-user-drag: none\; -webkit-tap-highlight-color: transparent\; line-height: 18px\;"><span class="SCXW217735149 BCX0" style="box-sizing: border-box\; outline: 0px\; margin: 0px\; padding: 0px\; user-select: text\; -webkit-user-drag: none\; -webkit-tap-highlight-color: transparent\; white-space: pre !important\;"><span style="box-sizing: border-box\; outline: 0px\; font-weight: bolder\;">Registration link: </span></span></span></span><span style="box-sizing: border-box\; font-size: 16px\; font-weight: bolder\; color: rgb(0\, 0\, 0)\; font-family: arial\;"><a href="https://www.usasean.org/mission/registration" style="box-sizing: border-box\; background-color: transparent\; color: rgb(34\, 72\, 132)\; text-decoration-line: none\; overflow-wrap: break-word\; outline: 0px\;">https://www.usasean.org/mission/registration</a></span><br />\n<br />\n<strong style="font-size: 16px\;"><span style="color: black\;"><span style="font-family: arial\, sans-serif\;">Note:&nbsp\;</span></span></strong><span style="font-size: 16px\; color: black\;"><span style="font-family: arial\, sans-serif\;">The deadline for receipt of mission materials is&nbsp\;<strong>COB Monday\, May 3\, 2021<strong>.&nbsp\;</strong></strong>After this date\, your company details may not be included in the briefing materials presented to the government. Applicable mission registration fees and the no refund policy are outlined under Mission Costs.</span></span><br style="font-size: 16px\;" />\n<span style="font-size: 16px\;">&nbsp\;&nbsp\;</span><br style="font-size: 16px\;" />\n<span style="font-size: 16px\;">&nbsp\;</span><br style="font-size: 16px\;" />\n<strong style="font-size: 16px\;"><span style="color: rgb(5\, 47\, 109)\;"><span style="font-family: georgia\, serif\;"><span style="font-size: 14pt\;">Mission Themes</span></span></span></strong><br style="font-size: 16px\;" />\n<span style="font-size: 16px\; font-family: arial\, sans-serif\;">The Council suggests that the following overarching themes can be used to frame company specific messages and/or policy advocacy reform priorities for this mission:</span>\n<div style="margin-top: 0in\; margin-right: 0in\; margin-bottom: 0in\; vertical-align: baseline\;"><span style="font-size:14px\;"><span style="font-family:times new roman\;"><strong>1.&nbsp\; </strong><strong><strong>Continue to support COVID-19 response and recovery</strong></strong><br />\n<strong>2.&nbsp\; <strong>Accelerate digital transformation&nbsp\;&nbsp\;</strong>&nbsp\;</strong></span></span></div>\n<span style="font-size:14px\;"><span style="font-family:times new roman\;"> <strong>3.&nbsp\;&nbsp\;<strong>Promote ease of doing business and economic liberalization measures</strong></strong>&nbsp\;<br />\n<strong>4.&nbsp\; Reinforce US-Philippines bilateral ties for regional peace and security</strong></span></span><br />\n<br />\n<span style="font-size: 16px\;">&nbsp\;</span>
LOCATION:Zoom meetings
UID:e.9078.8436
SEQUENCE:3
DTSTAMP:20260423T122419Z
URL:http://usasean.memberzone.com/events/details/2021-virtual-philippines-business-mission-8436
END:VEVENT

END:VCALENDAR
