BEGIN:VCALENDAR
VERSION:2.0
PRODID:-//ChamberMaster//Event Calendar 2.0//EN
METHOD:PUBLISH
X-PUBLISHED-TTL:P3D
REFRESH-INTERVAL:P3D
CALSCALE:GREGORIAN
BEGIN:VEVENT
DTSTART;VALUE=DATE:20210202
DTEND;VALUE=DATE:20210206
TRANSP:TRANSPARENT
X-MICROSOFT-CDO-ALLDAYEVENT:TRUE
SUMMARY:2021 Virtual Mission to 24th Meetings of ASEAN Tourism Ministers (M-ATM)
DESCRIPTION:The US-ASEAN Business Council is registering senior-level executives for its 2021 Virtual Mission to the 24th Meetings of the ASEAN Tourism Ministers (24th M-ATM) taking place virtually Tuesday\, 2 February 2021 to Friday\, 5 February 2021 hosted by Cambodia. The mission will consist of an annual plenary session with the Tourism Ministers and/or National Tourism Organizations (NTOs) and will propose bilateral meetings with ASEAN Tourism Ministers\, ASEAN+3 Tourism Ministers\, and the U.S. Embassy Phnom Penh.\n\nThe deadline for registration and submission of materials is Friday\, January 29 COB (SGT).\n\n\n\nRegistration link: https://www.usasean.org/mission/registration\n\nNote: Once your registration is initiated using the link in this invitation\, you have the option to cancel your registration to receive a full refund up to January 19 (Washington D.C.). After this date\, your registration cannot be canceled and you will be responsible for all registration fees.\n\nThis will be the 4th consecutive mission and engagement with ASEAN Tourism Ministers and NTOs since 2018. The mission themes focus on following:\n\n	ensuring tourism sector resilience in COVID-19 response and recovery strategies\, \n	accelerating digital transformation\, and \n	supporting travel bubbles and similar arrangements that encourage the return and confidence in travel.\n\nMission participants can propose other mission themes or discussion topics. Please contact Lilibeth Almonte-Arbez (lalmonte@usasean.org) and Steven Gunawan (sgunawan@usasean.org). Proposed themes and discussion topics will also be discussed during the pre-mission planning call.\n\nThe Virtual Mission will cover the following topics:\n\n\n	Key insights/ statistics for the inbound tourism and customer behavior trends (e.g. more domestic travel\, increased adoption of digital payment options)\n	Best practices for ASEAN to consider in the negotiation and implementation of:\n	\n		Travel bubbles\n		Statement on ASEAN Travel Corridor Arrangement\n		Declaration on ASEAN Digital Tourism\n	\n	\n	Tourism strategies for COVID-19 economic recovery \n	\n		ASEAN Tourism MSMEs   how the committee could further support the government to improve livelihood for those who got affected by the pandemic\n		Domestic tourism   driving domestic demand\, intra-ASEAN business travel and MICE\n	\n	\n\n \n\nMission Meetings:\n\nThe following meetings have been proposed. Given possible conflict meeting other engagements\, please indicate the importance of these meetings in the Business Mission Manager.\n\n \n\n\n	Brunei Ministry of Primary Resources and Tourism\n	Cambodia Ministry of Tourism\n	Indonesia Ministry of Tourism and Creative Economy  \n	Lao PDR Ministry of Information\, Culture\, and Tourism\n	Malaysia Ministry of Tourism\, Arts and Culture (MOTAC) \n	Myanmar Ministry of Hotels and Tourism (MOHT)  \n	Philippines Department of Tourism (DOT) \n	Singapore Tourism Board (STB)\n	Thailand Ministry of Tourism and Sports \n	 People's Republic of China Ministry of Tourism and Culture \n	 Japan Tourism Agency\n	 Republic of Korea Ministry of Tourism \n	 U.S. Embassy Phnom Penh\n	 ASEAN Secretariat\n\n \n\nAdditional meetings can be requested per mission delegates' interests and the officials' availability. Please note that we must have sufficient interest from mission delegates before requesting additional meetings.
X-ALT-DESC;FMTTYPE=text/html:<span style="font-size:14px\;"><span style="font-family:arial\;">The US-ASEAN Business Council is registering senior-level executives for its 2021 Virtual Mission to the 24<sup>th</sup> Meetings of the ASEAN Tourism Ministers (24<sup>th</sup> M-ATM) taking place virtually Tuesday\, 2 February 2021 to Friday\, 5 February 2021 hosted by Cambodia. The mission will consist of an annual plenary session with the Tourism Ministers and/or National Tourism Organizations (NTOs) and will propose bilateral meetings with ASEAN Tourism Ministers\, ASEAN+3 Tourism Ministers\, and the U.S. Embassy Phnom Penh.<br />\n<strong><span style="border:none windowtext 1.0pt\;padding:0in\;background:white\;"><span style="color:red\;">The deadline for registration and submission of materials is Friday\, January 29 COB (SGT).</span></span></strong><br />\n<br />\n<strong><span style="background:white\;"><span style="color:#444444\;">Registration link:&nbsp\;<a href="https://www.usasean.org/mission/registration" style="box-sizing:border-box\;overflow-wrap:break-word\;outline:0px\;"><span style="text-decoration:none\;text-underline:none\;"><span style="color:#224884\;">https://www.usasean.org/mission/registration</span></span></a></span></span></strong><br />\n<strong><span style="background:white\;"><span style="color:#444444\;">Note:&nbsp\;Once your registration is initiated using the link in this invitation\,</span></span><strong style="box-sizing:border-box\;font-variant-ligatures:normal\;font-variant-caps:normal\;orphans:2\;text-align:start\;widows:2\;-webkit-text-stroke-width:0px\;text-decoration-thickness:initial\;text-decoration-style:initial\;word-spacing:0px\;">&nbsp\;you have the option to cancel your registration to receive a full refund up to January 19 (Washington D.C.).&nbsp\;After this date\, your registration cannot be canceled and you will be responsible for all registration fees.</strong></strong><br />\n<span style="color:black\;">This will be the 4<sup>th</sup>&nbsp\;consecutive mission and engagement with ASEAN Tourism Ministers and NTOs since 2018. The mission themes focus on following:</span></span></span>\n<ol>\n	<li style="background:white\;"><span style="font-size:14px\;"><span style="font-family:arial\;"><span style="color:black\;">ensuring tourism sector resilience in COVID-19 response and recovery strategies\, </span></span></span></li>\n	<li style="background:white\;"><span style="font-size:14px\;"><span style="font-family:arial\;"><span style="color:black\;">accelerating digital transformation\, and </span></span></span></li>\n	<li style="background:white\;"><span style="font-size:14px\;"><span style="font-family:arial\;"><span style="color:black\;">supporting travel bubbles and similar arrangements that encourage the return and confidence in travel.</span></span></span></li>\n</ol>\n<span style="font-size:14px\;"><span style="font-family:arial\;"><span style="border:none windowtext 1.0pt\;padding:0in\;background:white\;"><span style="color:#201F1E\;">Mission participants can propose other mission themes or discussion topics. Please contact Lilibeth Almonte-Arbez (<a href="mailto:lalmonte@usasean.org">lalmonte@usasean.org</a>) and Steven Gunawan (<a href="mailto:sgunawan@usasean.org">sgunawan@usasean.org</a>). Proposed themes and discussion topics will also be discussed during the pre-mission planning call.</span></span><br />\n<strong><u><span style="color:#444444\;">The Virtual Mission will cover the following topics:</span></u></strong></span></span>\n\n<ul>\n	<li style="margin-bottom:0in\;"><span style="font-size:14px\;"><span style="font-family:arial\;">Key insights/ statistics for the inbound tourism and customer behavior trends (e.g. more domestic travel\, increased adoption of digital payment options)</span></span></li>\n	<li style="margin-bottom:0in\;"><span style="font-size:14px\;"><span style="font-family:arial\;">Best practices for ASEAN to consider in the negotiation and implementation of:</span></span>\n	<ul style="list-style-type:circle\;">\n		<li style="margin-top:0in\;margin-right:0in\;margin-bottom:0in\;"><span style="font-size:14px\;"><span style="font-family:arial\;">Travel bubbles</span></span></li>\n		<li style="margin-top:0in\;margin-right:0in\;margin-bottom:0in\;"><span style="font-size:14px\;"><span style="font-family:arial\;">Statement on ASEAN Travel Corridor Arrangement</span></span></li>\n		<li style="margin-top:0in\;margin-right:0in\;margin-bottom:0in\;"><span style="font-size:14px\;"><span style="font-family:arial\;">Declaration on ASEAN Digital Tourism</span></span></li>\n	</ul>\n	</li>\n	<li style="margin-bottom:0in\;"><span style="font-size:14px\;"><span style="font-family:arial\;">Tourism strategies for COVID-19 economic recovery </span></span>\n	<ul style="list-style-type:circle\;">\n		<li style="margin-top:0in\;margin-right:0in\;margin-bottom:0in\;"><span style="font-size:14px\;"><span style="font-family:arial\;">ASEAN Tourism MSMEs &ndash\; how the committee could further support the government to improve livelihood for those who got affected by the pandemic</span></span></li>\n		<li style="margin-top:0in\;margin-right:0in\;margin-bottom:0in\;"><span style="font-size:14px\;"><span style="font-family:arial\;">Domestic tourism &ndash\; driving domestic demand\, intra-ASEAN business travel and MICE</span></span></li>\n	</ul>\n	</li>\n</ul>\n<span style="font-size:14px\;"><span style="font-family:arial\;">&nbsp\;<br />\n<strong><u><span style="background:white\;"><span style="color:black\;">Mission Meetings:</span></span></u></strong><br />\n<span style="background:white\;"><span style="color:black\;">The following meetings have been proposed.&nbsp\;Given possible conflict meeting other engagements\, please indicate the importance of these meetings in the Business Mission Manager.</span></span><br />\n&nbsp\;</span></span>\n\n<ol>\n	<li style="margin-bottom:0in\;background:white\;"><span style="font-size:14px\;"><span style="font-family:arial\;"><span style="color:black\;">Brunei Ministry of Primary Resources and Tourism</span></span></span></li>\n	<li style="margin-bottom:0in\;background:white\;"><span style="font-size:14px\;"><span style="font-family:arial\;"><span style="color:black\;">Cambodia Ministry of Tourism</span></span></span></li>\n	<li style="margin-bottom:0in\;line-height:normal\;background:white\;"><span style="font-size:14px\;"><span style="font-family:arial\;"><span style="color:black\;">Indonesia Ministry of Tourism and Creative Economy &nbsp\;</span></span></span></li>\n	<li style="margin-bottom:0in\;line-height:normal\;background:white\;"><span style="font-size:14px\;"><span style="font-family:arial\;"><span style="color:black\;">Lao PDR Ministry of Information\, Culture\, and Tourism</span></span></span></li>\n	<li style="margin-bottom:0in\;line-height:normal\;background:white\;"><span style="font-size:14px\;"><span style="font-family:arial\;"><span style="color:black\;">Malaysia Ministry of Tourism\, Arts and Culture (MOTAC) </span></span></span></li>\n	<li style="margin-bottom:0in\;line-height:normal\;background:white\;"><span style="font-size:14px\;"><span style="font-family:arial\;"><span style="color:black\;">Myanmar Ministry of Hotels and Tourism (MOHT) &nbsp\;</span></span></span></li>\n	<li style="margin-bottom:0in\;line-height:normal\;background:white\;"><span style="font-size:14px\;"><span style="font-family:arial\;"><span style="color:black\;">Philippines Department of Tourism (DOT) </span></span></span></li>\n	<li style="margin-bottom:0in\;line-height:normal\;background:white\;"><span style="font-size:14px\;"><span style="font-family:arial\;"><span style="color:black\;">Singapore Tourism Board (STB)</span></span></span></li>\n	<li style="margin-bottom:0in\;line-height:normal\;background:white\;"><span style="font-size:14px\;"><span style="font-family:arial\;"><span style="color:black\;">Thailand Ministry of Tourism and Sports </span></span></span></li>\n	<li style="margin-bottom:0in\;line-height:normal\;background:white\;"><span style="font-size:14px\;"><span style="font-family:arial\;"><span style="color:black\;">&nbsp\;People&rsquo\;s Republic of China Ministry of Tourism and Culture </span></span></span></li>\n	<li style="margin-bottom:0in\;line-height:normal\;background:white\;"><span style="font-size:14px\;"><span style="font-family:arial\;"><span style="color:black\;">&nbsp\;Japan Tourism Agency</span></span></span></li>\n	<li style="margin-bottom:0in\;line-height:normal\;background:white\;"><span style="font-size:14px\;"><span style="font-family:arial\;"><span style="color:black\;">&nbsp\;Republic of Korea Ministry of Tourism </span></span></span></li>\n	<li style="margin-bottom:0in\;line-height:normal\;background:white\;"><span style="font-size:14px\;"><span style="font-family:arial\;"><span style="color:black\;">&nbsp\;U.S. Embassy Phnom Penh</span></span></span></li>\n	<li style="margin-bottom:0in\;line-height:normal\;background:white\;"><span style="font-size:14px\;"><span style="font-family:arial\;"><span style="color:black\;">&nbsp\;ASEAN Secretariat</span></span></span></li>\n</ol>\n<span style="font-size:14px\;"><span style="font-family:arial\;">&nbsp\;<br />\n<em><span style="background:white\;"><span style="color:#444444\;">Additional meetings can be requested per mission delegates&#39\; interests and the officials&#39\; availability. Please note that we must have sufficient interest from mission delegates before requesting additional meetings.</span></span></em></span></span><br />\n&nbsp\;
LOCATION:Virtual meetings
UID:e.9078.8360
SEQUENCE:3
DTSTAMP:20260423T164238Z
URL:http://usasean.memberzone.com/events/details/2021-virtual-mission-to-24th-meetings-of-asean-tourism-ministers-m-atm-8360
END:VEVENT

END:VCALENDAR
