BEGIN:VCALENDAR
VERSION:2.0
PRODID:-//ChamberMaster//Event Calendar 2.0//EN
METHOD:PUBLISH
X-PUBLISHED-TTL:P3D
REFRESH-INTERVAL:P3D
CALSCALE:GREGORIAN
BEGIN:VEVENT
DTSTART:20210512T003000Z
DTEND:20210512T013000Z
X-MICROSOFT-CDO-ALLDAYEVENT:FALSE
SUMMARY:2021 Q2 Singapore Committee Call
DESCRIPTION:2021 Q2 Singapore Committee Call\n\nGuest Speaker: Mr. Alvin Tan\n\nMinister of State for the Ministry of Community\, Culture and Youth\, and the Ministry of Trade and Industry
X-ALT-DESC;FMTTYPE=text/html:2021 Q2 Singapore Committee Call<br />\nGuest Speaker: <a href="https://www.mti.gov.sg/About-Us/People-at-MTI/Alvin-Tan">Mr. Alvin Tan</a><br />\nMinister of State for the Ministry of Community\, Culture and Youth\, and the Ministry of Trade and Industry<br />\n&nbsp\;
LOCATION:Meeting over Zoom
UID:e.9078.8458
SEQUENCE:3
DTSTAMP:20260423T122521Z
URL:http://usasean.memberzone.com/events/details/2021-q2-singapore-committee-call-8458
END:VEVENT

END:VCALENDAR
