BEGIN:VCALENDAR
VERSION:2.0
PRODID:-//ChamberMaster//Event Calendar 2.0//EN
METHOD:PUBLISH
X-PUBLISHED-TTL:P3D
REFRESH-INTERVAL:P3D
CALSCALE:GREGORIAN
BEGIN:VEVENT
DTSTART;VALUE=DATE:20211014
DTEND;VALUE=DATE:20211015
TRANSP:TRANSPARENT
X-MICROSOFT-CDO-ALLDAYEVENT:TRUE
SUMMARY:2021 ASEAN Innovation Series - Virtual visit to Innovation Center
DESCRIPTION:ASEAN Innovation Series - Virtual Visits to Innovation Centers and Laboratories\n\nProposed time to be along with ASEAN Minister Meeting on Science\, Technology\, and Innovation 2021 in Q4\, the virtual visit will showcase US-ABC members' innovation center/programs/lab through a virtual tour followed by discussion and exploring collaboration possibilities.
X-ALT-DESC;FMTTYPE=text/html:<strong><span style="font-family:calibri\,sans-serif\;"><span style="font-size:12.0pt\;">ASEAN Innovation Series - Virtual Visits to Innovation Centers and Laboratories</span></span></strong><br />\n<span style="font-family:calibri\,sans-serif\;"><span style="font-size:12.0pt\;">Proposed time to be along with ASEAN Minister Meeting on Science\, Technology\, and Innovation 2021 in Q4\, the virtual visit will showcase US-ABC members&rsquo\; innovation center/programs/lab through a virtual tour followed by discussion and exploring collaboration possibilities.</span></span>
LOCATION:Virtual
UID:e.9078.8530
SEQUENCE:3
DTSTAMP:20260423T051054Z
URL:http://usasean.memberzone.com/events/details/2021-asean-innovation-series-virtual-visit-to-innovation-center-8530
END:VEVENT

END:VCALENDAR
