BEGIN:VCALENDAR
VERSION:2.0
PRODID:-//ChamberMaster//Event Calendar 2.0//EN
METHOD:PUBLISH
X-PUBLISHED-TTL:P3D
REFRESH-INTERVAL:P3D
CALSCALE:GREGORIAN
BEGIN:VEVENT
DTSTART:20200717T010000Z
DTEND:20200717T020000Z
X-MICROSOFT-CDO-ALLDAYEVENT:FALSE
SUMMARY:2020 Singapore Committee Call with US CDA Rafik Mansour
DESCRIPTION:The US-ASEAN Business Council invites members to the July 2020 Singapore Committee Call featuring US Embassy in Singapore CDA Rafik Mansour. Registration to this event is required.
X-ALT-DESC;FMTTYPE=text/html:The US-ASEAN Business Council invites members to the July 2020 Singapore Committee Call featuring US Embassy in Singapore CDA Rafik Mansour. Registration to this event is required.
LOCATION:Virtual Meeting. Dial in details will be provided to registrants.
UID:e.9078.8250
SEQUENCE:3
DTSTAMP:20260424T050449Z
URL:http://usasean.memberzone.com/events/details/2020-singapore-committee-call-with-us-cda-rafik-mansour-8250
END:VEVENT

END:VCALENDAR
