BEGIN:VCALENDAR
VERSION:2.0
PRODID:-//ChamberMaster//Event Calendar 2.0//EN
METHOD:PUBLISH
X-PUBLISHED-TTL:P3D
REFRESH-INTERVAL:P3D
CALSCALE:GREGORIAN
BEGIN:VEVENT
DTSTART:20200424T010000Z
DTEND:20200424T023000Z
X-MICROSOFT-CDO-ALLDAYEVENT:FALSE
SUMMARY:2020 Health & Life Sciences Committee Quarterly Call (Q2-2020)
DESCRIPTION:The Council is pleased to invite members to join the second quarterly Health & Life Sciences Committee Call of 2020. The call will review the Committee's recent work\, discuss member priority issues\, and steps that we can take to adapt to the uncertain climate due to the COVID-19 outbreak.\n\n\n\nThe proposed meeting agenda is as follows:\n\n\n	Welcome Remarks by Alexander C. Feldman\, Chairman\, President & CEO\, USABC\n	Opening Remarks by Committee Leaders\n	COVID-19 Discussion\n	\n		What are the key challenges faced by companies?\n		What are companies doing to support the situation?\n		What can the HLS Committee be doing?\n		Post COVID-19 engagement?\n	\n	\n	2020 Priorities and Programs\n	\n		Follow up for the HLS Mission to Vietnam\n		U.S-Vietnam Oncology Partnership: Building Towards a Center of Excellence\n		HLS Mission to Indonesia (2nd  Half of 2020)\n		USABC Presentation at the 15th ASEAN Senior Officials Meeting on Health Development (SOM-HD) (August 2020)\n		Other issues\n	\n	\n	Comments and Q&A\n	Closing Remarks\n\n\nDial in details and updated call agenda will be provided to members upon registration. Please register before COB Monday\, April 22 SGT. If you have questions or would like to submit topics for the call\, please contact Thao Nguyen (tnguyen@usasean.org) and Hai Pham (hpham@usasean.org).
X-ALT-DESC;FMTTYPE=text/html:<p style="font-size: 16px\; text-align: justify\;"><span style="font-family: arial\;">The Council is pleased to invite members to join the second quarterly Health &amp\; Life Sciences Committee Call of 2020.&nbsp\;The call will review the Committee&#39\;s recent work\, discuss member priority issues\, and steps that we can take to adapt to the uncertain climate due to the COVID-19 outbreak.<br />\n<br />\nThe proposed meeting agenda is as follows:</span></p>\n\n<ul style="font-size: 16px\; text-align: center\;">\n	<li style="text-align: justify\;"><span style="font-family: arial\;">Welcome Remarks by Alexander C. Feldman\, Chairman\, President &amp\; CEO\, USABC</span></li>\n	<li style="text-align: justify\;"><span style="font-family: arial\;">Opening Remarks by Committee Leaders</span></li>\n	<li style="text-align: justify\;"><span style="font-family: arial\;">COVID-19 Discussion</span>\n	<ul>\n		<li><span style="font-family: arial\;">What are the&nbsp\;key challenges faced by companies?</span></li>\n		<li><span style="font-family: arial\;">What are companies doing to support the situation?</span></li>\n		<li><span style="font-family: arial\;">What can the HLS Committee be doing?</span></li>\n		<li><span style="font-family: arial\;">Post COVID-19 engagement?</span></li>\n	</ul>\n	</li>\n	<li style="text-align: justify\;"><span style="font-family: arial\;">2020 Priorities and Programs</span>\n	<ul>\n		<li><span style="font-family: arial\;">Follow up for the HLS Mission to Vietnam</span></li>\n		<li><span style="font-family: arial\;">U.S-Vietnam Oncology Partnership: Building Towards a Center of Excellence</span></li>\n		<li><span style="font-family: arial\;">HLS Mission to Indonesia (2<sup>nd &nbsp\;</sup>Half of 2020)</span></li>\n		<li><span style="font-family: arial\;">USABC Presentation at the 15th ASEAN Senior Officials Meeting on Health Development (SOM-HD) (August 2020)</span></li>\n		<li><span style="font-family: arial\;">Other issues</span></li>\n	</ul>\n	</li>\n	<li style="text-align: justify\;"><span style="font-family: arial\;">Comments and Q&amp\;A</span></li>\n	<li style="text-align: justify\;"><span style="font-family: arial\;">Closing Remarks</span></li>\n</ul>\n\n<div style="font-size: 16px\; text-align: justify\;"><span style="font-family: arial\;">Dial in details and updated call agenda will be provided to members upon registration.&nbsp\;Please register before&nbsp\;<strong>COB Monday\, April 22 SGT</strong>. If you have questions or would like to submit topics for the call\, please contact Thao Nguyen (<a href="mailto:tnguyen@usasean.org">tnguyen@usasean.org</a>) and Hai Pham (<a href="mailto:hpham@usasean.org">hpham@usasean.org</a>).</span></div>\n
LOCATION:
UID:e.9078.8170
SEQUENCE:3
DTSTAMP:20260424T093547Z
URL:http://usasean.memberzone.com/events/details/2020-health-life-sciences-committee-quarterly-call-q2-2020-8170
END:VEVENT

END:VCALENDAR
