BEGIN:VCALENDAR
VERSION:2.0
PRODID:-//ChamberMaster//Event Calendar 2.0//EN
METHOD:PUBLISH
X-PUBLISHED-TTL:P3D
REFRESH-INTERVAL:P3D
CALSCALE:GREGORIAN
BEGIN:VEVENT
DTSTART:20190828T000000Z
DTEND:20190828T010000Z
X-MICROSOFT-CDO-ALLDAYEVENT:FALSE
SUMMARY:2019 Philippines Business Mission Planning Call #2
DESCRIPTION:Please join us for our second planning call for the upcoming 2019 Philippines Business Mission (September 16-18). During the first part of the call\, Ambassador Sung Kim of the U.S. Embassy\, Manila is invited to provide a briefing.Click here to register for the mission.
X-ALT-DESC;FMTTYPE=text/html:<span style="font-size:16px\;"><span style="font-family:arial\;">Please join us for our second planning call for the upcoming 2019 Philippines Business Mission (September 16-18).&nbsp\;During the first part of the call\, Ambassador Sung Kim of the U.S. Embassy\, Manila is invited to provide a briefing</span>.<a href="https://protect-us.mimecast.com/s/A7KAC68Mr3fVWXlumfXdA" style="font-family: arial\, sans-serif\; font-size: 16px\;">Click here to register for the mission</a><span style="font-family: arial\, sans-serif\;">.&nbsp\;</span></span>
LOCATION:Dial-in details will be distributed to registrants prior to call
UID:e.9078.7999
SEQUENCE:3
DTSTAMP:20260424T224113Z
URL:http://usasean.memberzone.com/events/details/2019-philippines-business-mission-planning-call-2-7999
END:VEVENT

END:VCALENDAR
