BEGIN:VCALENDAR
VERSION:2.0
PRODID:-//ChamberMaster//Event Calendar 2.0//EN
METHOD:PUBLISH
X-PUBLISHED-TTL:P3D
REFRESH-INTERVAL:P3D
CALSCALE:GREGORIAN
BEGIN:VEVENT
DTSTART:20190918T110000Z
DTEND:20190918T120000Z
X-MICROSOFT-CDO-ALLDAYEVENT:FALSE
SUMMARY:2019 Myanmar Business Mission Planning Call with Ambassador Scot Marciel
DESCRIPTION:
X-ALT-DESC;FMTTYPE=text/html:
LOCATION:
UID:e.9078.8028
SEQUENCE:3
DTSTAMP:20260424T224218Z
URL:http://usasean.memberzone.com/events/details/2019-myanmar-business-mission-planning-call-with-ambassador-scot-marciel-8028
END:VEVENT

END:VCALENDAR
