BEGIN:VCALENDAR
VERSION:2.0
PRODID:-//ChamberMaster//Event Calendar 2.0//EN
METHOD:PUBLISH
X-PUBLISHED-TTL:P3D
REFRESH-INTERVAL:P3D
CALSCALE:GREGORIAN
BEGIN:VEVENT
DTSTART;VALUE=DATE:20190930
DTEND;VALUE=DATE:20191004
TRANSP:TRANSPARENT
X-MICROSOFT-CDO-ALLDAYEVENT:TRUE
SUMMARY:2019 Myanmar Business Mission
DESCRIPTION:
X-ALT-DESC;FMTTYPE=text/html:
LOCATION:Yangon\, Nay Pyi Taw\, Mandalay
UID:e.9078.8022
SEQUENCE:3
DTSTAMP:20260424T195326Z
URL:http://usasean.memberzone.com/events/details/2019-myanmar-business-mission-8022
END:VEVENT

END:VCALENDAR
