BEGIN:VCALENDAR
VERSION:2.0
PRODID:-//ChamberMaster//Event Calendar 2.0//EN
METHOD:PUBLISH
X-PUBLISHED-TTL:P3D
REFRESH-INTERVAL:P3D
CALSCALE:GREGORIAN
BEGIN:VEVENT
DTSTART:20191202T120000Z
DTEND:20191202T130000Z
X-MICROSOFT-CDO-ALLDAYEVENT:FALSE
SUMMARY:2019 Indonesia Mission Dinner with Minister Luhut
DESCRIPTION:The US-ABC is pleased to invite you to a dinner with Coordinating Minister for Maritime Affairs of Indonesia Luhut Pandjaitan. Minister Luhut will engage members in a discussion/Q&A. There will be no remarks or presentation.\n\n \n\nPlease confirm with us if you want a speaking role.
X-ALT-DESC;FMTTYPE=text/html:<span style="font-size:14px\;"><span style="font-family:arial\;">The US-ABC is pleased to invite you to a dinner with Coordinating Minister for Maritime Affairs of Indonesia Luhut Pandjaitan. Minister Luhut will engage members in a discussion/Q&amp\;A. There will be no remarks or presentation.<br />\n&nbsp\;<br />\nPlease confirm with us if you want a speaking role.</span></span>
LOCATION:Sapori Deli restaurant\, Fairmont Hotel
UID:e.9078.8099
SEQUENCE:3
DTSTAMP:20260424T170942Z
URL:http://usasean.memberzone.com/events/details/2019-indonesia-mission-dinner-with-minister-luhut-8099
END:VEVENT

END:VCALENDAR
