BEGIN:VCALENDAR
VERSION:2.0
PRODID:-//ChamberMaster//Event Calendar 2.0//EN
METHOD:PUBLISH
X-PUBLISHED-TTL:P3D
REFRESH-INTERVAL:P3D
CALSCALE:GREGORIAN
BEGIN:VEVENT
DTSTART:20190731T000000Z
DTEND:20190731T010000Z
X-MICROSOFT-CDO-ALLDAYEVENT:FALSE
SUMMARY:2019 Health & Life Sciences Quarterly Committee Call
DESCRIPTION:Please join the Council for our Health & Life Sciences Committee Call. The call will review recent programs and efforts and discuss upcoming activities and priority focus areas.
X-ALT-DESC;FMTTYPE=text/html:Please join the Council for our Health &amp\; Life Sciences Committee Call. The call will review recent programs and efforts and discuss upcoming activities and priority focus areas.
LOCATION:Conference Call - dial-in details will be sent to registrants prior to the call.
UID:e.9078.7958
SEQUENCE:3
DTSTAMP:20260425T001839Z
URL:http://usasean.memberzone.com/events/details/2019-health-life-sciences-quarterly-committee-call-7958
END:VEVENT

END:VCALENDAR
