BEGIN:VCALENDAR
VERSION:2.0
PRODID:-//ChamberMaster//Event Calendar 2.0//EN
METHOD:PUBLISH
X-PUBLISHED-TTL:P3D
REFRESH-INTERVAL:P3D
CALSCALE:GREGORIAN
BEGIN:VEVENT
DTSTART:20190829T013000Z
DTEND:20190829T023000Z
X-MICROSOFT-CDO-ALLDAYEVENT:FALSE
SUMMARY:2019 Food & Agriculture Quarterly Committee Call
DESCRIPTION:Please join us for the 2019 Food & Agriculture Quarterly Committee Call to review the committee's recent programs\, ongoing advocacy efforts\, and upcoming activities. Topics will include a discussion on the upcoming ASEAN Ministers of Agriculture and Forestry Meeting (AMAF) on October 7-10 in Brunei\, a potential Food & Agriculture Industry Mission to Indonesia in Q4\, and F&A committee issues and policy recommendations outlined in the Council's AEC White Paper. \n\n\n\nMore details to follow.
X-ALT-DESC;FMTTYPE=text/html:<span style="font-family:georgia\,serif\;"><span style="font-size:12.0pt\;">Please join us for the 2019 Food &amp\; Agriculture&nbsp\;Quarterly Committee Call to review the committee&#39\;s recent programs\, ongoing advocacy efforts\, and upcoming activities. Topics will include a discussion on the upcoming ASEAN Ministers of Agriculture and Forestry Meeting (AMAF) on October 7-10 in Brunei\, a potential&nbsp\;Food &amp\; Agriculture Industry Mission to Indonesia in Q4\, and F&amp\;A committee issues and policy recommendations&nbsp\;outlined in the Council&#39\;s AEC White Paper.&nbsp\;<br />\n<br />\nMore details to follow.</span></span>
LOCATION:Conference Call: dial-in details will be provided ahead of the call
UID:e.9078.7988
SEQUENCE:3
DTSTAMP:20260424T224218Z
URL:http://usasean.memberzone.com/events/details/2019-food-agriculture-quarterly-committee-call-7988
END:VEVENT

END:VCALENDAR
