BEGIN:VCALENDAR
VERSION:2.0
PRODID:-//ChamberMaster//Event Calendar 2.0//EN
METHOD:PUBLISH
X-PUBLISHED-TTL:P3D
REFRESH-INTERVAL:P3D
CALSCALE:GREGORIAN
BEGIN:VEVENT
DTSTART:20191114T000000Z
DTEND:20191115T100000Z
X-MICROSOFT-CDO-ALLDAYEVENT:FALSE
SUMMARY:2019 Business Mission to the 25th ASEAN Transport Ministers Meeting
DESCRIPTION:2019 Business Mission to the 25th ASEAN Transport Ministers Meeting
X-ALT-DESC;FMTTYPE=text/html:2019 Business Mission to the 25th ASEAN Transport Ministers Meeting
LOCATION:Hanoi\, Vietnam
UID:e.9078.8029
SEQUENCE:3
DTSTAMP:20260424T183541Z
URL:http://usasean.memberzone.com/events/details/2019-business-mission-to-the-25th-asean-transport-ministers-meeting-8029
END:VEVENT

END:VCALENDAR
