BEGIN:VCALENDAR
VERSION:2.0
PRODID:-//ChamberMaster//Event Calendar 2.0//EN
METHOD:PUBLISH
X-PUBLISHED-TTL:P3D
REFRESH-INTERVAL:P3D
CALSCALE:GREGORIAN
BEGIN:VEVENT
DTSTART:20190923T143000Z
DTEND:20190923T160000Z
X-MICROSOFT-CDO-ALLDAYEVENT:FALSE
SUMMARY:2019 ASEAN Agricultural Attaché Roundtable [Members]
DESCRIPTION:2019 ASEAN Agricultural Attach  Roundtable
X-ALT-DESC;FMTTYPE=text/html:2019 ASEAN Agricultural Attach&eacute\; Roundtable
LOCATION:Embassy of Vietnam 1233 20th St NW #400\, Washington\, DC 20036
UID:e.9078.7997
SEQUENCE:3
DTSTAMP:20260421T062742Z
URL:http://usasean.memberzone.com/events/details/2019-asean-agricultural-attach&#233;-roundtable-members-7997
END:VEVENT

END:VCALENDAR
