BEGIN:VCALENDAR
VERSION:2.0
PRODID:-//ChamberMaster//Event Calendar 2.0//EN
METHOD:PUBLISH
X-PUBLISHED-TTL:P3D
REFRESH-INTERVAL:P3D
CALSCALE:GREGORIAN
BEGIN:VEVENT
DTSTART:20181213T130000Z
DTEND:20181213T140000Z
X-MICROSOFT-CDO-ALLDAYEVENT:FALSE
SUMMARY:2018 Vietnam Committee Quarterly Call - Q4
DESCRIPTION:2018 Vietnam Committee Quarterly - Q4
X-ALT-DESC;FMTTYPE=text/html:2018 Vietnam Committee Quarterly - Q4
LOCATION:
UID:e.9078.7754
SEQUENCE:3
DTSTAMP:20260425T133319Z
URL:http://usasean.memberzone.com/events/details/2018-vietnam-committee-quarterly-call-q4-7754
END:VEVENT

END:VCALENDAR
