BEGIN:VCALENDAR
VERSION:2.0
PRODID:-//ChamberMaster//Event Calendar 2.0//EN
METHOD:PUBLISH
X-PUBLISHED-TTL:P3D
REFRESH-INTERVAL:P3D
CALSCALE:GREGORIAN
BEGIN:VEVENT
DTSTART:20180514T050000Z
DTEND:20180514T071000Z
X-MICROSOFT-CDO-ALLDAYEVENT:FALSE
SUMMARY:2018 US - Indonesia Trade & Investment Framework Agreement: Private Sector Consultation
DESCRIPTION:The U.S. Government and the Government of Indonesia welcome private sector participation during the upcoming Trade and Investment Framework Agreement Talks in Jakarta.
X-ALT-DESC;FMTTYPE=text/html:<span style="font-family:arial\;"><span style="font-size:11.0pt\;">The U.S. Government and the Government of Indonesia welcome private sector participation during the upcoming Trade and Investment Framework Agreement Talks in Jakarta.&nbsp\;</span></span>
LOCATION:Jakarta\, Indonesia
UID:e.9078.6555
SEQUENCE:3
DTSTAMP:20260419T220503Z
URL:http://usasean.memberzone.com/events/details/2018-us-indonesia-trade-investment-framework-agreement-private-sector-consultation-6555
END:VEVENT

END:VCALENDAR
