BEGIN:VCALENDAR
VERSION:2.0
PRODID:-//ChamberMaster//Event Calendar 2.0//EN
METHOD:PUBLISH
X-PUBLISHED-TTL:P3D
REFRESH-INTERVAL:P3D
CALSCALE:GREGORIAN
BEGIN:VEVENT
DTSTART;VALUE=DATE:20180830
DTEND;VALUE=DATE:20180902
TRANSP:TRANSPARENT
X-MICROSOFT-CDO-ALLDAYEVENT:TRUE
SUMMARY:2018 US-ABC Mission to ASEAN Economic Ministers’ Meeting (AEM)
DESCRIPTION:
X-ALT-DESC;FMTTYPE=text/html:
LOCATION:
UID:e.9078.6583
SEQUENCE:3
DTSTAMP:20260420T034002Z
URL:http://usasean.memberzone.com/events/details/2018-us-abc-mission-to-asean-economic-ministers-meeting-aem-6583
END:VEVENT

END:VCALENDAR
