BEGIN:VCALENDAR
VERSION:2.0
PRODID:-//ChamberMaster//Event Calendar 2.0//EN
METHOD:PUBLISH
X-PUBLISHED-TTL:P3D
REFRESH-INTERVAL:P3D
CALSCALE:GREGORIAN
BEGIN:VEVENT
DTSTART:20180724T123000Z
DTEND:20180724T133000Z
X-MICROSOFT-CDO-ALLDAYEVENT:FALSE
SUMMARY:2018 Singapore Business Mission Planning Call w/ Political and Economic Affairs Counselor\, U.S. Embassy in Singapore
DESCRIPTION:Please join us for the first planning call for the 2018 Singapore Business Mission (August 20-21).\n\n\n\nDuring the first part of the call\, Ms. Melissa Brown\, Counselor for Economic and Political Affairs at the U.S. Embassy in Singapore\, will provide a briefing on U.S.-Singapore relations\, the Singapore Government's economic priorities for 2018\, and Singapore's 2018 ASEAN Chairmanship year. A brief Q&A will follow Brown's briefing. Ms. Brown's bio official bio can be found here. \n\n\n\nThe second part of the call will focus on refining mission themes and meeting targets for the 2018 Singapore Business Mission. More details on the mission can be found here.  All members who are considering participating in the mission are highly encouraged to join the call.\n\n\n\nIf you have any questions or input for the call\, please contact Riley Smith (rsmith@usasean.org) and Sunita Kapoor (skapoor@usasean.org).
X-ALT-DESC;FMTTYPE=text/html:Please join us for the first planning call for the <strong><a href="https://www.usasean.org/mission/registration">2018 Singapore Business Mission (August 20-21)</a></strong>.<br />\n<br />\nDuring the first part of the call\, Ms. Melissa Brown\, Counselor for Economic and Political Affairs at the U.S. Embassy in Singapore\, will provide a briefing on U.S.-Singapore relations\, the Singapore Government&#39\;s economic priorities for 2018\, and Singapore&#39\;s 2018 ASEAN Chairmanship year. A brief Q&amp\;A will follow Brown&#39\;s briefing. Ms. Brown&#39\;s bio official bio can be found <a href="https://chambermaster.blob.core.windows.net/userfiles/UserFiles/chambers/9078/File/MelissaA.Brown-Bio.pdf">here</a>.&nbsp\;<br />\n<br />\nThe second part of the call will focus on refining mission themes and meeting targets for the 2018 Singapore Business Mission. More details on the mission can be found <a href="http://usasean.memberzone.com/events/details/2018-singapore-business-mission-6606">here</a>.&nbsp\; All members who are considering participating in the mission are highly encouraged to join the call.<br />\n<br />\nIf you have any questions or input for the call\, please contact Riley Smith (rsmith@usasean.org) and Sunita Kapoor (skapoor@usasean.org).
LOCATION:Call-in details and agenda will be distributed to registrants prior to the call.
UID:e.9078.7629
SEQUENCE:3
DTSTAMP:20260420T034026Z
URL:http://usasean.memberzone.com/events/details/2018-singapore-business-mission-planning-call-w-political-and-economic-affairs-counselor-u-s-embassy-in-singapore-7629
END:VEVENT

END:VCALENDAR
