BEGIN:VCALENDAR
VERSION:2.0
PRODID:-//ChamberMaster//Event Calendar 2.0//EN
METHOD:PUBLISH
X-PUBLISHED-TTL:P3D
REFRESH-INTERVAL:P3D
CALSCALE:GREGORIAN
BEGIN:VEVENT
DTSTART:20180816T123000Z
DTEND:20180816T133000Z
X-MICROSOFT-CDO-ALLDAYEVENT:FALSE
SUMMARY:2018 Singapore Business Mission Planning Call #2 w/ Briefing on RCEP and CPTPP
DESCRIPTION:Please join us for the second planning call for the 2018 Singapore Business Mission (August 20-21).\n\n\n\nDuring the first part of the call\, Mr. Gregory Nichols\, Principal at Tradewin\, an international trade and customs consulting firm\, will provide a briefing on recent developments related to RCEP and CPTPP. Mr. Nichols will also discuss how U.S.-China trade tensions could affect Singapore. A short Q&A will follow Mr. Nichols's briefing. Mr. Nichols has over ten years of global trade project experience in countries throughout Asia. Prior to joining Tradewin\, Mr. Nichols led trade & customs consulting practices at a Big 4 accounting and tax firm in both Singapore and China. Mr. Nichol's official bio and blog can be found here.    \n\n\n\nThe second part of the call will focus on the 2018 Singapore Business Mission. We will provide an update on logistics and meeting confirmations. We will also discuss the talking points for the various meetings. More details on the 2018 Singapore Business Mission can be found here. All members who are participating or considering participating in the mission are highly encouraged to join the call.\n\n\n\nIf you have any questions or input for the call\, please contact Riley Smith (rsmith@usasean.org) and Sunita Kapoor (skapoor@usasean.org).
X-ALT-DESC;FMTTYPE=text/html:Please join us for the second planning call for the <strong><a href="https://www.usasean.org/mission/registration">2018 Singapore Business Mission (August 20-21)</a></strong>.<br />\n<br />\nDuring the first part of the call\, Mr. Gregory Nichols\, Principal at Tradewin\, an international trade and customs consulting firm\, will provide a briefing on recent developments related to RCEP and CPTPP. Mr. Nichols will also discuss how U.S.-China trade tensions could affect Singapore. A short Q&amp\;A will follow Mr. Nichols&#39\;s briefing. Mr. Nichols has over ten years of global trade project experience in countries throughout Asia. Prior to joining Tradewin\, Mr. Nichols led trade &amp\; customs consulting practices at a Big 4 accounting and tax firm in both Singapore and China. Mr. Nichol&#39\;s official bio and blog can be found <a href="http://blog.tradewin.net/author/gregory-nichols">here</a>.&nbsp\; &nbsp\;&nbsp\;<br />\n<br />\nThe second part of the call will focus on the 2018 Singapore Business Mission. We will provide an update on logistics and meeting confirmations. We will also discuss the talking points for the various meetings. More details on the 2018 Singapore Business Mission can be found <a href="http://usasean.memberzone.com/events/details/2018-singapore-business-mission-6606">here</a>. All members who are participating or considering participating in the mission are highly encouraged to join the call.<br />\n<br />\nIf you have any questions or input for the call\, please contact Riley Smith (rsmith@usasean.org) and Sunita Kapoor (skapoor@usasean.org).
LOCATION:Call-in details and agenda will be distributed to registrants prior to the call.
UID:e.9078.7650
SEQUENCE:3
DTSTAMP:20260420T033837Z
URL:http://usasean.memberzone.com/events/details/2018-singapore-business-mission-planning-call-2-w-briefing-on-rcep-and-cptpp-7650
END:VEVENT

END:VCALENDAR
