BEGIN:VCALENDAR
VERSION:2.0
PRODID:-//ChamberMaster//Event Calendar 2.0//EN
METHOD:PUBLISH
X-PUBLISHED-TTL:P3D
REFRESH-INTERVAL:P3D
CALSCALE:GREGORIAN
BEGIN:VEVENT
DTSTART;VALUE=DATE:20180820
DTEND;VALUE=DATE:20180822
TRANSP:TRANSPARENT
X-MICROSOFT-CDO-ALLDAYEVENT:TRUE
SUMMARY:2018 Singapore Business Mission
DESCRIPTION:The US-ASEAN Business Council is registering senior-level executives for its annual Business Mission to Singapore on August 20-21\, 2018. Participants should plan to arrive in Singapore by Sunday afternoon\, August 19. There will be an organizational meeting and briefing before the start of the mission. The mission will end by the evening of Tuesday\, August 21.\n\n\n\nThe deadline for receipt of registration and mission materials is COB Monday\, August 6\, 2018. \n\n\n\nWe will hold at least two pre-mission conference calls before the start of the mission. More information on these calls will be sent out at a later date.\n\n\n\nClick here to register for the mission.
X-ALT-DESC;FMTTYPE=text/html:The US-ASEAN Business Council is registering senior-level executives for its annual Business Mission to Singapore on August 20-21\, 2018. Participants should plan to <strong>arrive in Singapore by Sunday afternoon\, August 19. There will be an organizational meeting and briefing before the start of the mission. The mission will end by the evening of Tuesday\, August 21.</strong><br />\n<br />\nThe deadline for receipt of registration and mission materials is <span style="color:#FF0000\;"><strong><u>COB Monday\, August 6\, 2018</u></strong></span>.&nbsp\;<br />\n<br />\nWe will hold at least two pre-mission conference calls before the start of the mission. More information on these calls will be sent out at a later date.<br />\n<br />\n<strong><a href="https://www.usasean.org/mission/registration">Click here to register for the mission.</a></strong>
LOCATION:Singapore
UID:e.9078.6606
SEQUENCE:3
DTSTAMP:20260420T033842Z
URL:http://usasean.memberzone.com/events/details/2018-singapore-business-mission-6606
END:VEVENT

END:VCALENDAR
