BEGIN:VCALENDAR
VERSION:2.0
PRODID:-//ChamberMaster//Event Calendar 2.0//EN
METHOD:PUBLISH
X-PUBLISHED-TTL:P3D
REFRESH-INTERVAL:P3D
CALSCALE:GREGORIAN
BEGIN:VEVENT
DTSTART;VALUE=DATE:20181211
DTEND;VALUE=DATE:20181214
TRANSP:TRANSPARENT
X-MICROSOFT-CDO-ALLDAYEVENT:TRUE
SUMMARY:2018 Myanmar Business Mission
DESCRIPTION:Requested meetings include: President U Win Myint\, State Counsellor Daw Aung San Suu Kyi\, Key Cabinet Ministers\, Members of Parliament including Speaker of the Pyithu Hluttaw (Lower House) U T Khun Myat\, Myanmar Investment Commission\, and the UMFCCI.\n\n\n\nPlease contact Jack Myint at jmyint@usasean.org with any questions or to express interest.
X-ALT-DESC;FMTTYPE=text/html:<span style="font-family: arial\, sans-serif\; font-size: 16px\;">Requested meetings include: President U Win Myint\, State Counsellor Daw Aung San Suu Kyi\, Key Cabinet Ministers\, Members of Parliament including Speaker of the Pyithu Hluttaw (Lower House) U T Khun Myat\,&nbsp\;Myanmar Investment Commission\, and the UMFCCI.</span><br style="font-family: arial\, sans-serif\; font-size: 16px\;" />\n<br style="font-family: arial\, sans-serif\; font-size: 16px\;" />\n<span style="font-family: arial\, sans-serif\; font-size: 16px\;">Please contact Jack Myint at&nbsp\;</span><a href="mailto:jmyint@usasean.org" style="font-family: arial\, sans-serif\; font-size: 16px\;">jmyint@usasean.org</a><span style="font-family: arial\, sans-serif\; font-size: 16px\;">&nbsp\;with any questions or to express interest.</span>
LOCATION:Yangon and Nay Pyi Taw Myanmar
UID:e.9078.7723
SEQUENCE:3
DTSTAMP:20260425T125046Z
URL:http://usasean.memberzone.com/events/details/2018-myanmar-business-mission-7723
END:VEVENT

END:VCALENDAR
