BEGIN:VCALENDAR
VERSION:2.0
PRODID:-//ChamberMaster//Event Calendar 2.0//EN
METHOD:PUBLISH
X-PUBLISHED-TTL:P3D
REFRESH-INTERVAL:P3D
CALSCALE:GREGORIAN
BEGIN:VEVENT
DTSTART:20180815T020000Z
DTEND:20180815T030000Z
X-MICROSOFT-CDO-ALLDAYEVENT:FALSE
SUMMARY:2018 Laos Business Mission Planning Call
DESCRIPTION:Please join us for a planning call for the 2018 Laos Business Mission (taking place August 23-24\, 2018)\, featuring a briefing from the Honorable Rena Bitter\, U.S. Ambassador to Laos.
X-ALT-DESC;FMTTYPE=text/html:Please join us for a planning call for the 2018 Laos Business Mission (taking place August 23-24\, 2018)\, featuring a briefing from the Honorable Rena Bitter\, U.S. Ambassador to Laos.&nbsp\;
LOCATION:Dial-in details will be distributed to registrants prior to call
UID:e.9078.7648
SEQUENCE:3
DTSTAMP:20260420T033843Z
URL:http://usasean.memberzone.com/events/details/2018-laos-business-mission-planning-call-7648
END:VEVENT

END:VCALENDAR
