BEGIN:VCALENDAR
VERSION:2.0
PRODID:-//ChamberMaster//Event Calendar 2.0//EN
METHOD:PUBLISH
X-PUBLISHED-TTL:P3D
REFRESH-INTERVAL:P3D
CALSCALE:GREGORIAN
BEGIN:VEVENT
DTSTART:20180731T130000Z
DTEND:20180731T140000Z
X-MICROSOFT-CDO-ALLDAYEVENT:FALSE
SUMMARY:2018 Health & Life Sciences Committee Quarterly Call
DESCRIPTION:2018 Health & Life Sciences Committee Quarterly Call
X-ALT-DESC;FMTTYPE=text/html:2018 Health &amp\; Life Sciences Committee Quarterly Call
LOCATION:Conference Call
UID:e.9078.7630
SEQUENCE:3
DTSTAMP:20260420T020052Z
URL:http://usasean.memberzone.com/events/details/2018-health-life-sciences-committee-quarterly-call-7630
END:VEVENT

END:VCALENDAR
