BEGIN:VCALENDAR
VERSION:2.0
PRODID:-//ChamberMaster//Event Calendar 2.0//EN
METHOD:PUBLISH
X-PUBLISHED-TTL:P3D
REFRESH-INTERVAL:P3D
CALSCALE:GREGORIAN
BEGIN:VEVENT
DTSTART:20180711T010000Z
DTEND:20180712T110000Z
X-MICROSOFT-CDO-ALLDAYEVENT:FALSE
SUMMARY:2018 Food & Agriculture Industry Mission to Vietnam
DESCRIPTION:2018 Food & Agriculture Industry Mission to Vietnam
X-ALT-DESC;FMTTYPE=text/html:2018 Food &amp\; Agriculture Industry Mission to Vietnam&nbsp\;&nbsp\;&nbsp\;&nbsp\;&nbsp\;&nbsp\;&nbsp\;&nbsp\;
LOCATION:Hanoi\, Vietnam
UID:e.9078.6589
SEQUENCE:3
DTSTAMP:20260420T020021Z
URL:http://usasean.memberzone.com/events/details/2018-food-agriculture-industry-mission-to-vietnam-6589
END:VEVENT

END:VCALENDAR
