BEGIN:VCALENDAR
VERSION:2.0
PRODID:-//ChamberMaster//Event Calendar 2.0//EN
METHOD:PUBLISH
X-PUBLISHED-TTL:P3D
REFRESH-INTERVAL:P3D
CALSCALE:GREGORIAN
BEGIN:VEVENT
DTSTART;VALUE=DATE:20181002
DTEND;VALUE=DATE:20181004
TRANSP:TRANSPARENT
X-MICROSOFT-CDO-ALLDAYEVENT:TRUE
SUMMARY:2018 Cambodia Business Mission
DESCRIPTION:The US-ASEAN Business Council is now registering senior-level executives for its 2018 Business Mission to Cambodia.  The Mission will begin the morning of Tuesday\, October 2 and conclude the evening of Wednesday\, October 3.  Participants should plan to arrive in Phnom Penh by the evening of Monday\, October 1.   \n\n\n\nThis year's mission is significant since we will be engaging a reshuffled or entirely new batch of key cabinet ministers\, after the ruliing Cambodian People's landslide electoral victory on July 29.  Prime Minister Hun Sen is confirmed to stay in his position for at least another five-year term\, and his new cabinet will be announced by September 6.
X-ALT-DESC;FMTTYPE=text/html:<span style="font-family:arial\,sans-serif\;"><span style="font-size:12.0pt\;">The US-ASEAN Business Council is now registering senior-level executives for its 2018&nbsp\;Business Mission to Cambodia. &nbsp\;The Mission will begin the morning of Tuesday\, October 2&nbsp\;and conclude the evening of Wednesday\, October 3. &nbsp\;Participants should plan to arrive in Phnom Penh by&nbsp\;the evening of Monday\, October 1. &nbsp\;&nbsp\;</span></span><br />\n<br />\n<span style="font-family:arial\,sans-serif\;"><span style="font-size:12.0pt\;">This year&#39\;s mission is significant since we will be engaging a reshuffled or entirely new batch of key cabinet ministers\, after the ruliing Cambodian People&#39\;s landslide electoral victory on July 29.&nbsp\; Prime Minister Hun Sen is confirmed to stay in his position for at least another five-year term\, and his new cabinet will be announced by September 6.</span></span><br />\n&nbsp\;
LOCATION:Phnom Penh\, Cambodia
UID:e.9078.7660
SEQUENCE:3
DTSTAMP:20260420T070335Z
URL:http://usasean.memberzone.com/events/details/2018-cambodia-business-mission-7660
END:VEVENT

END:VCALENDAR
