BEGIN:VCALENDAR
VERSION:2.0
PRODID:-//ChamberMaster//Event Calendar 2.0//EN
METHOD:PUBLISH
X-PUBLISHED-TTL:P3D
REFRESH-INTERVAL:P3D
CALSCALE:GREGORIAN
BEGIN:VEVENT
DTSTART:20181011T010000Z
DTEND:20181012T110000Z
X-MICROSOFT-CDO-ALLDAYEVENT:FALSE
SUMMARY:2018 Business Mission to the 40th ASEAN Ministerial Meeting on Agriculture and Forestry
DESCRIPTION:2018 Business Mission to the 40th ASEAN Ministerial Meeting on Agriculture & Forestry
X-ALT-DESC;FMTTYPE=text/html:2018 Business Mission to the 40th ASEAN Ministerial Meeting on Agriculture &amp\; Forestry&nbsp\;&nbsp\;&nbsp\;&nbsp\;&nbsp\;&nbsp\;&nbsp\;&nbsp\;
LOCATION:Hanoi\, Vietnam
UID:e.9078.7669
SEQUENCE:3
DTSTAMP:20260420T070508Z
URL:http://usasean.memberzone.com/events/details/2018-business-mission-to-the-40th-asean-ministerial-meeting-on-agriculture-and-forestry-7669
END:VEVENT

END:VCALENDAR
