BEGIN:VCALENDAR
VERSION:2.0
PRODID:-//ChamberMaster//Event Calendar 2.0//EN
METHOD:PUBLISH
X-PUBLISHED-TTL:P3D
REFRESH-INTERVAL:P3D
CALSCALE:GREGORIAN
BEGIN:VEVENT
DTSTART:20180906T183000Z
DTEND:20180906T200000Z
X-MICROSOFT-CDO-ALLDAYEVENT:FALSE
SUMMARY:2018 ASEAN Agricultural Attaché Roundtable
DESCRIPTION:2018 ASEAN Agricultural Attach  Roundtable
X-ALT-DESC;FMTTYPE=text/html:2018&nbsp\;ASEAN Agricultural Attach&eacute\; Roundtable
LOCATION:Embassy of the Philippines
UID:e.9078.7649
SEQUENCE:3
DTSTAMP:20260420T070100Z
URL:http://usasean.memberzone.com/events/details/2018-asean-agricultural-attach&#233;-roundtable-7649
END:VEVENT

END:VCALENDAR
