BEGIN:VCALENDAR
VERSION:2.0
PRODID:-//ChamberMaster//Event Calendar 2.0//EN
METHOD:PUBLISH
X-PUBLISHED-TTL:P3D
REFRESH-INTERVAL:P3D
CALSCALE:GREGORIAN
BEGIN:VEVENT
DTSTART:20150309T010000Z
DTEND:20150309T020000Z
X-MICROSOFT-CDO-ALLDAYEVENT:FALSE
SUMMARY:2015 ASEAN Finance Ministers Meeting Planning Call 3
DESCRIPTION:Please join Financial Services Committee (FSC) members for the third of three conference calls to plan our attendance of the 2015 ASEAN Finance Ministers Meeting in Kuala Lumpur\, Malaysia.  Call participants will discuss:\n\n\n	Comments and suggested edits to the Council's briefing paper to the 10 ASEAN ministers of finance \n\n	\n		Note:  A draft of the briefing paper will be circulated to mission registrants only by the morning of March 6\, Singapore time\n	\n	\n	Speaking roles and finalization of themes to address in our working luncheon with the 10 ASEAN ministers of finance on March 21\n	Secured bilateral meetings and scheduling for March 19 and 20\n\n \n\nFSC members who wish to attend the AFMM can register online here and download the required supplemental mission registration form here.  FSC members who plan to attend the AFMM are kindly requested to submit these materials as soon as possible.\n\n\n\nThe Council's delegation will stay and hold meetings at the Grand Hyatt Kuala Lumpur.  Room reservations at a group booking rate can be made here.  Please note:  You may make reservations for this program at special discounted rates until Friday\, March 6.  Please cancel your reservations within 14 days of your arrival to avoid a cancelation fee of two-night room and tax.\n\n\n\nNote:  All delegates are required to pre-register for the March 21 working luncheon with the Malaysian Ministry of Finance.  Please register here using the following:\n\n\n\nID Name :businessc2015\n\nPassword : aseanusbc1921\n\n\n\nYour browser may produce a security warning for that link.  Be aware that the link was provided directly to the Council by Ministry of Finance staff.  The online registration system will be available until 10AM on March 10\, Kuala Lumpur time.  All delegates are advised to register within the stipulated time frame.  Only those issued passes will be permitted to access the meeting room.
X-ALT-DESC;FMTTYPE=text/html:<span style="font-size:14px\;"><span style="font-family:arial\,sans-serif\;">Please join Financial Services Committee (FSC) members for the third of three conference calls to plan our attendance of the 2015 ASEAN Finance Ministers Meeting&nbsp\;in Kuala Lumpur\, Malaysia. &nbsp\;Call participants&nbsp\;will discuss:</span></span>\n\n<ul>\n	<li><span style="font-size:14px\;"><span style="font-family:arial\,sans-serif\;">Comments and suggested edits to the Council&#39\;s briefing paper to the 10 ASEAN ministers of finance </span></span>\n\n	<ul>\n		<li><span style="font-size:14px\;"><strong><span style="font-family:arial\,sans-serif\;">Note</span></strong><span style="font-family:arial\,sans-serif\;">: &nbsp\;A draft of the briefing&nbsp\;paper will be circulated to <em>mission registrants only</em>&nbsp\;by the morning of March 6\, Singapore time</span></span></li>\n	</ul>\n	</li>\n	<li><span style="font-size:14px\;"><span style="font-family:arial\,sans-serif\;">Speaking roles and finalization of themes to address in our working luncheon with the 10 ASEAN ministers of finance on March 21</span></span></li>\n	<li><span style="font-size:14px\;"><span style="font-family:arial\,sans-serif\;">Secured bilateral meetings and scheduling&nbsp\;for March 19 and 20</span></span></li>\n</ul>\n<span style="font-size:14px\;">&nbsp\;<br />\n<span style="font-family:arial\,sans-serif\;">FSC members who wish to attend the AFMM can register online <strong><a href="http://usasean.memberzone.com/events/details/2015-asean-finance-ministers-meeting-1474">here</a></strong> and download the required supplemental mission registration form <strong><a href="http://cloud.chambermaster.com/userfiles/UserFiles/chambers/9078/File/2015AFMMMissionRegistrationandPaymentForm.docx">here</a></strong>. &nbsp\;FSC members who plan to attend the AFMM are kindly requested to submit these materials as soon as possible.</span><br />\n<br />\n<span style="font-family:arial\,sans-serif\;">The Council&#39\;s delegation will stay and hold meetings at the Grand Hyatt Kuala Lumpur. &nbsp\;Room reservations at a group booking rate can be made <a href="https://urldefense.proofpoint.com/v1/url?u=http://www.kualalumpur.grand.hyatt.com/content/propertywebsites/hotels/grandhyatt/kuagh/en/group-booking/kuaghi0512015.html&amp\;k=wdHsQuqY0Mqq1fNjZGIYnA%3D%3D%0A&amp\;r=G9qRVhBYwFU8TcrcUInxMJqyze2vD%2FhgM4%2FkAGchsJc%3D%0A&amp\;m=HmFOHpUiXPJoyALz56%2BNENcqkIyLRj7XoNapf3RQRSE%3D%0A&amp\;s=ac96affb318ea5bf07c5d101993151ef9b7d66ad408beed88b89f40de5924b5e8b89f40de5924b5e"><strong>here</strong></a>.&nbsp\; Please note: &nbsp\;You may make reservations for this program at special discounted rates&nbsp\;until <strong>Friday\, March 6</strong>. &nbsp\;Please cancel your reservations within 14 days of your arrival to avoid a cancelation fee of two-night room and tax.<br />\n<br />\n<strong>Note</strong>: &nbsp\;All delegates are required to pre-register for the March 21 working luncheon with the Malaysian Ministry of Finance. &nbsp\;Please register <strong><a href="https://eregister.treasury.gov.my/pra">here</a>&nbsp\;</strong>using the following:<br />\n<br />\n<em><span style="background-image:initial\;background-attachment:initial\;background-size:initial\;background-origin:initial\;background-clip:initial\;background-position:initial\;background-repeat:initial\;"><strong>ID Name :businessc2015</strong></span></em><br />\n<em><span style="background-image:initial\;background-attachment:initial\;background-size:initial\;background-origin:initial\;background-clip:initial\;background-position:initial\;background-repeat:initial\;"><strong>Password : aseanusbc1921</strong></span></em><br />\n<br />\nYour browser may produce a security warning for that link. &nbsp\;Be aware that the link was provided directly to the Council by Ministry of Finance staff. &nbsp\;The online registration system will be available until 10AM on March 10\, Kuala Lumpur time. &nbsp\;All delegates are advised to register within the stipulated time frame. &nbsp\;Only those issued passes will be permitted to access the meeting room.</span></span>
LOCATION:
UID:e.9078.1494
SEQUENCE:3
DTSTAMP:20260419T172202Z
URL:http://usasean.memberzone.com/events/details/2015-asean-finance-ministers-meeting-planning-call-3-03-08-2015-1494
END:VEVENT

END:VCALENDAR
