BEGIN:VCALENDAR
VERSION:2.0
PRODID:-//ChamberMaster//Event Calendar 2.0//EN
METHOD:PUBLISH
X-PUBLISHED-TTL:P3D
REFRESH-INTERVAL:P3D
CALSCALE:GREGORIAN
BEGIN:VEVENT
DTSTART:20150225T003000Z
DTEND:20150225T013000Z
X-MICROSOFT-CDO-ALLDAYEVENT:FALSE
SUMMARY:2015 ASEAN Finance Ministers Meeting Planning Call 2
DESCRIPTION:Please join Financial Services Committee (FSC) members on the second of three conference calls to plan our attendance of the 2015 ASEAN Finance Ministers Meeting in Kuala Lumpur\, Malaysia.  Call participants will further discuss:\n\n\n	\n	Themes to address in our working luncheon with the 10 ASEAN ministers of finance on March 21\n	\n	\n	Structure and content of the briefing paper to be submitted to the ministers during the working luncheon\n	\n	\n	Priority bilateral meeting requests for March 19 and 20\n	\n\n\nPlease note: On the February 12 pre-mission planning call\, FSC members proposed an outline of discussion topics for the March 21 working luncheon.  That outline will be circulated to FSC members early in the week of February 16 for further review and comment.\n\n\n\nFinancial Services Committee members who wish to attend the AFMM can register online here and download the required supplemental mission registration form here.  FSC members who plan to attend the AFMM are kindly requested to submit these materials as soon as possible.\n\nThe Council's delegation will stay and hold bilateral meetings at the Grand Hyatt Kuala Lumpur.  Room reservations at a group booking rate can be made here.  Please note: You may make reservations for this program at special discounted rates until Friday March 6.  Please cancel your reservations within 14 days of your arrival to avoid a cancelation fee of two-night room and tax.
X-ALT-DESC;FMTTYPE=text/html:<div><span style="font-size:14px\;"><span style="font-family:arial\,sans-serif\;">Please join Financial Services Committee (FSC) members on the second of three conference calls to plan our attendance of the 2015 ASEAN Finance Ministers Meeting&nbsp\;in Kuala Lumpur\, Malaysia. &nbsp\;Call participants&nbsp\;will further&nbsp\;discuss:</span></span></div>\n\n<ul>\n	<li>\n	<div><span style="font-size:14px\;"><span style="font-family:arial\,sans-serif\;">Themes to address in our working luncheon with the 10 ASEAN ministers of finance on March 21</span></span></div>\n	</li>\n	<li>\n	<div><span style="font-size:14px\;"><span style="font-family:arial\,sans-serif\;">Structure and content of the briefing paper to be submitted to the ministers during the working luncheon</span></span></div>\n	</li>\n	<li>\n	<div><span style="font-size:14px\;"><span style="font-family:arial\,sans-serif\;">Priority bilateral meeting requests for March 19 and 20</span></span></div>\n	</li>\n</ul>\n\n<div><span style="font-size:14px\;"><strong><span style="font-family:arial\,sans-serif\;">Please note: </span></strong><span style="font-family:arial\,sans-serif\;">On&nbsp\;the February 12 pre-mission planning call\, FSC&nbsp\;members proposed an outline of discussion topics for the March 21 working luncheon. &nbsp\;That outline will be circulated to FSC&nbsp\;members early in&nbsp\;the week of February 16 for further review and comment.<br />\n<br />\nFinancial Services Committee members who wish to attend the AFMM can register online <strong><a href="http://usasean.memberzone.com/events/details/2015-asean-finance-ministers-meeting-1474">here</a></strong> and download the required supplemental mission registration form <strong><a href="http://cloud.chambermaster.com/userfiles/UserFiles/chambers/9078/File/2015AFMMMissionRegistrationandPaymentForm.docx">here</a></strong>. &nbsp\;FSC members who plan to attend the AFMM are kindly requested to submit these materials as soon as possible.</span></span></div>\n\n<p><small><span style="font-size:14px\;"><span style="color: rgb(0\, 0\, 0)\; letter-spacing: 1px\; line-height: 22.3999996185303px\;">The Council&#39\;s delegation will stay and hold bilateral meetings at the Grand Hyatt Kuala Lumpur. &nbsp\;Room reservations at a group booking rate can be made&nbsp\;</span><strong style="color: rgb(0\, 0\, 0)\; font-family: arial\; font-size: 14px\; letter-spacing: 1px\; line-height: 22.3999996185303px\;"><a href="http://www.kualalumpur.grand.hyatt.com/content/propertywebsites/hotels/grandhyatt/kuagh/en/group-booking/kuagha0512015.html">here</a></strong><span style="color: rgb(0\, 0\, 0)\; letter-spacing: 1px\; line-height: 22.3999996185303px\;">. &nbsp\;Please note: You may make reservations for this program at special discounted rates until Friday March 6. &nbsp\;Please cancel your reservations within 14 days of your arrival to avoid a cancelation fee of two-night room and tax.</span></span></small></p>\n
LOCATION:
UID:e.9078.1485
SEQUENCE:3
DTSTAMP:20260419T192445Z
URL:http://usasean.memberzone.com/events/details/2015-asean-finance-ministers-meeting-planning-call-2-02-24-2015-1485
END:VEVENT

END:VCALENDAR
