BEGIN:VCALENDAR
VERSION:2.0
PRODID:-//ChamberMaster//Event Calendar 2.0//EN
METHOD:PUBLISH
X-PUBLISHED-TTL:P3D
REFRESH-INTERVAL:P3D
CALSCALE:GREGORIAN
BEGIN:VEVENT
DTSTART:20140314T010000Z
DTEND:20140314T020000Z
X-MICROSOFT-CDO-ALLDAYEVENT:FALSE
SUMMARY:2014 Singapore Business Mission Conference Call With Ambassador Wagar
DESCRIPTION:Please join us for a 2014 Singapore Business Mission conference call.  If you are planning to join the 2014 Singapore Business Mission\, we encourage you to dial in for updates. The first 20 minutes of the call will be dedicated to a Singapore update from U.S. Ambassador to Singapore\, The Honorable Kirk Wagar. The second half of the call will be dedicated to mission discussion and updates from the Council.   \n\n\n\nMembers are encouraged to submit any questions in advance.
X-ALT-DESC;FMTTYPE=text/html:<span style="font-size:16px\;"><span style="font-family: arial\;">Please join us for a 2014 Singapore Business Mission conference call. &nbsp\;If you are planning&nbsp\;to join the 2014 Singapore Business Mission\, we encourage you to dial in for updates. <strong>The first 20 minutes of the call will be dedicated to a Singapore update from&nbsp\;U.S. Ambassador to Singapore</strong><strong>\, The Honorable Kirk Wagar.&nbsp\;</strong>The second half of the call will be dedicated to mission discussion and updates from the Council.&nbsp\;&nbsp\;&nbsp\;<br />\n<br />\nMembers are encouraged to submit any questions in advance.&nbsp\;</span></span><br />\n<br />\n&nbsp\;
LOCATION:The conference call details will be distributed to registrants. Washington\, D.C. Thursday\, March 13\, 9:00PM EST Singapore Friday\, March 14\, 9:00AM SGT
UID:e.9078.1081
SEQUENCE:3
DTSTAMP:20260420T155137Z
URL:http://usasean.memberzone.com/events/details/2014-singapore-business-mission-conference-call-with-ambassador-wagar-03-13-2014-1081
END:VEVENT

END:VCALENDAR
