BEGIN:VCALENDAR
VERSION:2.0
PRODID:-//ChamberMaster//Event Calendar 2.0//EN
METHOD:PUBLISH
X-PUBLISHED-TTL:P3D
REFRESH-INTERVAL:P3D
CALSCALE:GREGORIAN
BEGIN:VEVENT
DTSTART:20140318T010000Z
DTEND:20140318T020000Z
X-MICROSOFT-CDO-ALLDAYEVENT:FALSE
SUMMARY:2014 Singapore Business Mission Conference Call With Ambassador Mirpuri
DESCRIPTION:Please join us for our final call before the 2014 Singapore Business Mission. If you are planning to join the mission or are considering joining the mission\, we strongly encourage you to dial in for updates as this will be the last update before we see each other in Singapore on 26 March 2014.\n\n\n\nThe first 20 minutes of the call will be dedicated to a Singapore update from Singapore Ambassador to the U.S.\, His Excellency Ashok Kumar Mirpuri. The second half of the call will be dedicated to mission discussion and updates from the Council.   \n\n\n\nMembers are encouraged to submit any questions in advance.
X-ALT-DESC;FMTTYPE=text/html:<span style="font-family:arial\,sans-serif\;"><span style="font-size:11.0pt\;">Please join us for our final call before the 2014 Singapore Business Mission. If you are planning to join the mission or are considering joining the mission\, we strongly encourage you to dial in for updates as this will be the last update before we see each other in Singapore on 26 March 2014.</span></span><br />\n<br />\n<span style="font-size:16px\;"><span style="font-family: arial\;"><strong>The first 20 minutes of the call will be dedicated to a Singapore update from Singapore Ambassador to the U.S.</strong><strong>\, His Excellency Ashok Kumar Mirpuri. </strong>The second half of the call will be dedicated to mission discussion and updates from the Council.&nbsp\;&nbsp\;&nbsp\;<br />\n<br />\nMembers are encouraged to submit any questions in advance.&nbsp\;</span></span>
LOCATION:The conference call details will be distributed to registrants. Washington\, D.C. Monday\, March 17\, 9:00PM EST Singapore Tuesday\, March 18\, 9:00AM SGT
UID:e.9078.1082
SEQUENCE:3
DTSTAMP:20260420T155135Z
URL:http://usasean.memberzone.com/events/details/2014-singapore-business-mission-conference-call-with-ambassador-mirpuri-03-17-2014-1082
END:VEVENT

END:VCALENDAR
