BEGIN:VCALENDAR
VERSION:2.0
PRODID:-//ChamberMaster//Event Calendar 2.0//EN
METHOD:PUBLISH
X-PUBLISHED-TTL:P3D
REFRESH-INTERVAL:P3D
CALSCALE:GREGORIAN
BEGIN:VEVENT
DTSTART;VALUE=DATE:20140827
DTEND;VALUE=DATE:20140830
TRANSP:TRANSPARENT
X-MICROSOFT-CDO-ALLDAYEVENT:TRUE
SUMMARY:2014 Mission to ASEAN Economic Ministers Meeting
DESCRIPTION:Overarching themes for this year's mission to the ASEAN Economic Ministers Meeting:  \n\n\n	Supporting the development of the AEC and AEC readiness\n	Supporting the development of SMEs in ASEAN\n	Build Capacity for Effective ASEAN Governance\n	Provide Support for Myanmar's ASEAN Chairmanship\n\n\n \n\nThe following meetings will be included:\n\n\n	Participation in USTR-AEM Bilateral\n	US-ASEAN Business Summit and Reception\n	 Bilateral Meetings with the ASEAN Economic Ministers
X-ALT-DESC;FMTTYPE=text/html:<p class="MsoNormal"><span style="font-size: 14px\;"><span style="font-family: arial\;"><span style="letter-spacing: 0.75pt\;">Overarching themes for this year&rsquo\;s mission to the ASEAN Economic Ministers&nbsp\;Meeting:&nbsp\; </span></span></span><o:p></o:p></p>\n\n<ul type="disc">\n	<li class="MsoNormal"><span style="font-size: 14px\;"><span style="font-family: arial\;"><span style="letter-spacing: 0.75pt\;">Supporting the development of the AEC and AEC readiness</span></span></span><o:p></o:p></li>\n	<li class="MsoNormal"><span style="font-size: 14px\;"><span style="font-family: arial\;"><span style="letter-spacing: 0.75pt\;">Supporting the development of SMEs in ASEAN</span></span></span><o:p></o:p></li>\n	<li class="MsoNormal"><span style="font-size: 14px\;"><span style="font-family: arial\;"><span style="letter-spacing: 0.75pt\;">Build Capacity for Effective ASEAN Governance</span></span></span><o:p></o:p></li>\n	<li class="MsoNormal"><span style="font-size: 14px\;"><span style="font-family: arial\;"><span style="letter-spacing: 0.75pt\;">Provide Support for Myanmar&rsquo\;s ASEAN Chairmanship</span></span></span><o:p></o:p></li>\n</ul>\n\n<p class="MsoNormal"><span style="font-size: 14px\;"><span style="font-family: arial\;">&nbsp\;<br />\n<span style="letter-spacing: 0.75pt\;">The following meetings will be included:</span></span></span><o:p></o:p></p>\n\n<ul type="disc">\n	<li class="MsoNormal"><span style="font-size: 14px\;"><span style="font-family: arial\;"><span style="letter-spacing: 0.75pt\;">Participation in USTR-AEM Bilateral</span></span></span><o:p></o:p></li>\n	<li class="MsoNormal"><span style="font-size: 14px\;"><span style="font-family: arial\;"><span style="letter-spacing: 0.75pt\;">US-ASEAN Business Summit and Reception</span></span></span><o:p></o:p></li>\n	<li class="MsoNormal"><span style="font-size: 14px\;"><span style="font-family: arial\;"><span style="letter-spacing: 0.75pt\;">&#8203\;Bilateral Meetings with the ASEAN Economic Ministers</span></span></span><o:p></o:p></li>\n</ul>\n
LOCATION:Nay Pyi Taw\, Myanmar
UID:e.9078.1219
SEQUENCE:3
DTSTAMP:20260420T055503Z
URL:http://usasean.memberzone.com/events/details/2014-mission-to-asean-economic-ministers-meeting-08-27-2014-1219
END:VEVENT

END:VCALENDAR
