BEGIN:VCALENDAR
VERSION:2.0
PRODID:-//ChamberMaster//Event Calendar 2.0//EN
METHOD:PUBLISH
X-PUBLISHED-TTL:P3D
REFRESH-INTERVAL:P3D
CALSCALE:GREGORIAN
BEGIN:VEVENT
DTSTART:20140728T133000Z
DTEND:20140728T143000Z
X-MICROSOFT-CDO-ALLDAYEVENT:FALSE
SUMMARY:2014 Malaysia Business Mission 1st Call | July 28\, 2014
DESCRIPTION:If you are planning to join the Business Mission to Malaysia\, or considering it\, we encourage you to dial in to learn more about the mission themes\, agenda\, and logistics.  We ask for feedback as to what other activities could be included to strengthen the mission.
X-ALT-DESC;FMTTYPE=text/html:If you are planning&nbsp\;to join the Business Mission to Malaysia\, or considering it\, we encourage you to dial in to learn more about the mission themes\, agenda\, and logistics.&nbsp\; We ask for feedback as to what other activities could be included to strengthen the mission.&nbsp\;
LOCATION:Toll-free dial-in number (U.S. and Canada): (877) 505-1427 International dial-in number: (281) 319-9194 Conference code: 6853245105
UID:e.9078.1188
SEQUENCE:3
DTSTAMP:20260420T073035Z
URL:http://usasean.memberzone.com/events/details/2014-malaysia-business-mission-1st-call-july-28-2014-07-28-2014-1188
END:VEVENT

END:VCALENDAR
