BEGIN:VCALENDAR
VERSION:2.0
PRODID:-//ChamberMaster//Event Calendar 2.0//EN
METHOD:PUBLISH
X-PUBLISHED-TTL:P3D
REFRESH-INTERVAL:P3D
CALSCALE:GREGORIAN
BEGIN:VEVENT
DTSTART:20141024T120000Z
DTEND:20141024T210000Z
X-MICROSOFT-CDO-ALLDAYEVENT:FALSE
SUMMARY:2014 Infrastructure Mini Mission to the Philippines
DESCRIPTION:2014 Infrastructure Mini Mission to the Philippines
X-ALT-DESC;FMTTYPE=text/html:&nbsp\;&nbsp\;2014 Infrastructure Mini Mission to the Philippines
LOCATION:Manila\, Philippines
UID:e.9078.1264
SEQUENCE:3
DTSTAMP:20260420T020952Z
URL:http://usasean.memberzone.com/events/details/2014-infrastructure-mini-mission-to-the-philippines-10-24-2014-1264
END:VEVENT

END:VCALENDAR
