BEGIN:VCALENDAR
VERSION:2.0
PRODID:-//ChamberMaster//Event Calendar 2.0//EN
METHOD:PUBLISH
X-PUBLISHED-TTL:P3D
REFRESH-INTERVAL:P3D
CALSCALE:GREGORIAN
BEGIN:VEVENT
DTSTART:20141203T010000Z
DTEND:20141203T100000Z
X-MICROSOFT-CDO-ALLDAYEVENT:FALSE
SUMMARY:2014 Food & Agriculture Mini Mission to Vietnam
DESCRIPTION:Members are invited to join USABC's 2014 Food & Agricultural Mini Mission to Vietnam\, to be held on December 3 in Hanoi. Meetings are planned with representatives from various government ministries and industry trade associations.
X-ALT-DESC;FMTTYPE=text/html:Members are invited to join USABC&#39\;s 2014 Food &amp\; Agricultural Mini Mission to Vietnam\, to be held on December 3 in Hanoi. Meetings are planned with representatives from various government ministries and industry trade associations.
LOCATION:Hanoi\, Vietnam
UID:e.9078.1281
SEQUENCE:3
DTSTAMP:20260419T222625Z
URL:http://usasean.memberzone.com/events/details/2014-food-agriculture-mini-mission-to-vietnam-12-03-2014-1281
END:VEVENT

END:VCALENDAR
