BEGIN:VCALENDAR
VERSION:2.0
PRODID:-//ChamberMaster//Event Calendar 2.0//EN
METHOD:PUBLISH
X-PUBLISHED-TTL:P3D
REFRESH-INTERVAL:P3D
CALSCALE:GREGORIAN
BEGIN:VEVENT
DTSTART:20140806T120000Z
DTEND:20140807T000000Z
X-MICROSOFT-CDO-ALLDAYEVENT:FALSE
SUMMARY:2014 Food & Agriculture Mini Mission to the Philippines
DESCRIPTION:Members are invited to join USABC's 2014 Food & Agricultural Mini Mission to the Philippines\, to be held in the week of August 4\, 2014 in Manila. Meetings are planned with representatives from various government ministries and industry trade associations.
X-ALT-DESC;FMTTYPE=text/html:Members are invited to join USABC&#39\;s 2014 Food &amp\; Agricultural Mini Mission to the Philippines\, to be held in the week of August 4\, 2014 in Manila. Meetings are planned with representatives from various government ministries and industry trade associations.
LOCATION:Manila\, Philippines
UID:e.9078.1208
SEQUENCE:3
DTSTAMP:20260420T073932Z
URL:http://usasean.memberzone.com/events/details/2014-food-agriculture-mini-mission-to-the-philippines-08-06-2014-1208
END:VEVENT

END:VCALENDAR
