BEGIN:VCALENDAR
VERSION:2.0
PRODID:-//ChamberMaster//Event Calendar 2.0//EN
METHOD:PUBLISH
X-PUBLISHED-TTL:P3D
REFRESH-INTERVAL:P3D
CALSCALE:GREGORIAN
BEGIN:VEVENT
DTSTART:20140821T013000Z
DTEND:20140821T023000Z
X-MICROSOFT-CDO-ALLDAYEVENT:FALSE
SUMMARY:2014 Cambodia Business Mission Conference Call
DESCRIPTION:Please join us for a 2014 Cambodia Business Mission conference call.  If you are planning to join the 2014 Cambodia Business Mission\, we encourage you to dial in for updates. The first 20 minutes of the call will be dedicated to a Cambodia update from U.S. Ambassador to Cambodia\, The Honorable William E. Todd. The second half of the call will be dedicated to mission discussion and updates from the Council.   \n\n\n\nMembers are encouraged to submit any questions in advance.
X-ALT-DESC;FMTTYPE=text/html:<span style="color: rgb(68\, 68\, 68)\; font-family: arial\; font-size: 16px\; font-style: normal\; font-variant: normal\; font-weight: normal\; letter-spacing: normal\; line-height: 18.200000762939453px\; orphans: auto\; text-align: left\; text-indent: 0px\; text-transform: none\; white-space: normal\; widows: auto\; word-spacing: 0px\; -webkit-text-stroke-width: 0px\; display: inline !important\; float: none\; background-color: rgb(255\, 255\, 255)\;">Please join us for a 2014 Cambodia Business Mission conference call. &nbsp\;If you are planning&nbsp\;to join the 2014 Cambodia Business Mission\, we encourage you to dial in for updates. </span><strong style="font-weight: 700\; border: none\; border-collapse: separate\; border-image-source: none\; border-image-slice: 100% 1 0\; border-image-repeat: stretch\; border-top-left-radius: 0px\; border-top-right-radius: 0px\; border-bottom-right-radius: 0px\; border-bottom-left-radius: 0px\; bottom: auto\; box-sizing: content-box\; clear: none\; color: rgb(68\, 68\, 68)\; content: normal\; direction: inherit\; display: inline\; empty-cells: show\; float: none\; font-family: arial\; font-size: 16px\; font-style: normal\; font-variant: normal\; left: auto\; letter-spacing: normal\; line-height: 18.200000762939453px\; margin: 0px\; max-height: none\; max-width: none\; opacity: 1\; outline: invert none medium\; outline-offset: 0px\; overflow: visible\; padding: 0px\; position: static\; resize: none\; right: auto\; table-layout: auto\; text-align: left\; text-decoration: none\; text-indent: 0px\; text-justify: inherit\; text-overflow: clip\; text-transform: none\; top: auto\; vertical-align: baseline\; visibility: inherit\; white-space: normal\; word-break: inherit\; word-spacing: 0px\; word-wrap: inherit\; z-index: auto\; height: auto\; width: auto\; box-shadow: none\; orphans: auto\; widows: auto\; -webkit-text-stroke-width: 0px\; background: none rgb(255\, 255\, 255)\;">The first 20 minutes of the call will be dedicated to a Cambodia update from&nbsp\;U.S. Ambassador to Cambodia</strong><strong style="font-weight: 700\; border: none\; border-collapse: separate\; border-image-source: none\; border-image-slice: 100% 1 0\; border-image-repeat: stretch\; border-top-left-radius: 0px\; border-top-right-radius: 0px\; border-bottom-right-radius: 0px\; border-bottom-left-radius: 0px\; bottom: auto\; box-sizing: content-box\; clear: none\; color: rgb(68\, 68\, 68)\; content: normal\; direction: inherit\; display: inline\; empty-cells: show\; float: none\; font-family: arial\; font-size: 16px\; font-style: normal\; font-variant: normal\; left: auto\; letter-spacing: normal\; line-height: 18.200000762939453px\; margin: 0px\; max-height: none\; max-width: none\; opacity: 1\; outline: invert none medium\; outline-offset: 0px\; overflow: visible\; padding: 0px\; position: static\; resize: none\; right: auto\; table-layout: auto\; text-align: left\; text-decoration: none\; text-indent: 0px\; text-justify: inherit\; text-overflow: clip\; text-transform: none\; top: auto\; vertical-align: baseline\; visibility: inherit\; white-space: normal\; word-break: inherit\; word-spacing: 0px\; word-wrap: inherit\; z-index: auto\; height: auto\; width: auto\; box-shadow: none\; orphans: auto\; widows: auto\; -webkit-text-stroke-width: 0px\; background: none rgb(255\, 255\, 255)\;">\, The Honorable William E. Todd.&nbsp\;</strong><span style="color: rgb(68\, 68\, 68)\; font-family: arial\; font-size: 16px\; font-style: normal\; font-variant: normal\; font-weight: normal\; letter-spacing: normal\; line-height: 18.200000762939453px\; orphans: auto\; text-align: left\; text-indent: 0px\; text-transform: none\; white-space: normal\; widows: auto\; word-spacing: 0px\; -webkit-text-stroke-width: 0px\; display: inline !important\; float: none\; background-color: rgb(255\, 255\, 255)\;">The second half of the call will be dedicated to mission discussion and updates from the Council.&nbsp\;&nbsp\;&nbsp\;</span><br style="border: none\; border-collapse: separate\; border-image-source: none\; border-image-slice: 100% 1 0\; border-image-repeat: stretch\; border-top-left-radius: 0px\; border-top-right-radius: 0px\; border-bottom-right-radius: 0px\; border-bottom-left-radius: 0px\; bottom: auto\; box-sizing: content-box\; clear: none\; color: rgb(68\, 68\, 68)\; content: normal\; direction: inherit\; display: inline\; empty-cells: show\; float: none\; font-family: arial\; font-size: 16px\; font-style: normal\; font-variant: normal\; font-weight: normal\; left: auto\; letter-spacing: normal\; line-height: 18.200000762939453px\; margin: 0px\; max-height: none\; max-width: none\; opacity: 1\; outline: invert none medium\; outline-offset: 0px\; overflow: visible\; padding: 0px\; position: static\; resize: none\; right: auto\; table-layout: auto\; text-align: left\; text-decoration: none\; text-indent: 0px\; text-justify: inherit\; text-overflow: clip\; text-transform: none\; top: auto\; vertical-align: baseline\; visibility: inherit\; white-space: normal\; word-break: inherit\; word-spacing: 0px\; word-wrap: inherit\; z-index: auto\; height: auto\; width: auto\; orphans: auto\; widows: auto\; -webkit-text-stroke-width: 0px\; background: none rgb(255\, 255\, 255)\;" />\n<br style="border: none\; border-collapse: separate\; border-image-source: none\; border-image-slice: 100% 1 0\; border-image-repeat: stretch\; border-top-left-radius: 0px\; border-top-right-radius: 0px\; border-bottom-right-radius: 0px\; border-bottom-left-radius: 0px\; bottom: auto\; box-sizing: content-box\; clear: none\; color: rgb(68\, 68\, 68)\; content: normal\; direction: inherit\; display: inline\; empty-cells: show\; float: none\; font-family: arial\; font-size: 16px\; font-style: normal\; font-variant: normal\; font-weight: normal\; left: auto\; letter-spacing: normal\; line-height: 18.200000762939453px\; margin: 0px\; max-height: none\; max-width: none\; opacity: 1\; outline: invert none medium\; outline-offset: 0px\; overflow: visible\; padding: 0px\; position: static\; resize: none\; right: auto\; table-layout: auto\; text-align: left\; text-decoration: none\; text-indent: 0px\; text-justify: inherit\; text-overflow: clip\; text-transform: none\; top: auto\; vertical-align: baseline\; visibility: inherit\; white-space: normal\; word-break: inherit\; word-spacing: 0px\; word-wrap: inherit\; z-index: auto\; height: auto\; width: auto\; orphans: auto\; widows: auto\; -webkit-text-stroke-width: 0px\; background: none rgb(255\, 255\, 255)\;" />\n<span style="color: rgb(68\, 68\, 68)\; font-family: arial\; font-size: 16px\; font-style: normal\; font-variant: normal\; font-weight: normal\; letter-spacing: normal\; line-height: 18.200000762939453px\; orphans: auto\; text-align: left\; text-indent: 0px\; text-transform: none\; white-space: normal\; widows: auto\; word-spacing: 0px\; -webkit-text-stroke-width: 0px\; display: inline !important\; float: none\; background-color: rgb(255\, 255\, 255)\;">Members are encouraged to submit any questions in advance. </span>
LOCATION:The conference call details will be distributed to registrants.
UID:e.9078.1227
SEQUENCE:3
DTSTAMP:20260420T073905Z
URL:http://usasean.memberzone.com/events/details/2014-cambodia-business-mission-conference-call-08-20-2014-1227
END:VEVENT

END:VCALENDAR
