BEGIN:VCALENDAR
VERSION:2.0
PRODID:-//ChamberMaster//Event Calendar 2.0//EN
METHOD:PUBLISH
X-PUBLISHED-TTL:P3D
REFRESH-INTERVAL:P3D
CALSCALE:GREGORIAN
BEGIN:VEVENT
DTSTART:20140523T183000Z
DTEND:20140523T193000Z
X-MICROSOFT-CDO-ALLDAYEVENT:FALSE
SUMMARY:2014 ASEAN Customs Directors-General Meeting: First Conference Call
DESCRIPTION:Conference Call for 2014 ASEAN Customs Directors-General Meeting
X-ALT-DESC;FMTTYPE=text/html:Conference Call for 2014 ASEAN Customs Directors-General Meeting
LOCATION:Conference call: Dial in: +65 6668-7508 \; passcode: 933286
UID:e.9078.1148
SEQUENCE:3
DTSTAMP:20260420T123610Z
URL:http://usasean.memberzone.com/events/details/2014-asean-customs-directors-general-meeting-first-conference-call-05-23-2014-1148
END:VEVENT

END:VCALENDAR
