BEGIN:VCALENDAR
VERSION:2.0
PRODID:-//ChamberMaster//Event Calendar 2.0//EN
METHOD:PUBLISH
X-PUBLISHED-TTL:P3D
REFRESH-INTERVAL:P3D
CALSCALE:GREGORIAN
BEGIN:VEVENT
DTSTART:20140808T120000Z
DTEND:20140808T160000Z
X-MICROSOFT-CDO-ALLDAYEVENT:FALSE
SUMMARY:2014 ACW Golf Tournament
DESCRIPTION:The US-ASEAN Business Council will host this year's annual ASEAN Committee in Washington (ACW) Golf Tournament at P.B. Dye Golf Club in Ijamsville\, Maryland.  This is an opportunity to socialize with Council staff\, the ASEAN Ambassadors and embassy officials.  We look forward to teeing off with you on August 8!\n\n\n\nSPONSORSHIP OPPORTUNITIES AVAILABLE
X-ALT-DESC;FMTTYPE=text/html:<span style="font-family: arial\;"><span style="font-size: 12px\;">The US-ASEAN Business Council will host this year&#39\;s annual ASEAN Committee in Washington (ACW) Golf Tournament at P.B. Dye Golf Club in Ijamsville\, Maryland.&nbsp\; This is an opportunity to socialize&nbsp\;with Council staff\, the ASEAN Ambassadors and embassy officials.&nbsp\; We look forward to&nbsp\;teeing off with&nbsp\;you on August 8!</span></span><br />\n<br />\n<a href="http://cloud.chambermaster.com/userfiles/UserFiles/chambers/9078/File/2014ACWGolfTournamentSponsorshipFlyer1.pdf">SPONSORSHIP OPPORTUNITIES AVAILABLE</a>
LOCATION:P.B. Dye Golf Club 9526 Doctor Perry Road Ijamsville\, MD 21754
UID:e.9078.1190
SEQUENCE:3
DTSTAMP:20260420T073709Z
URL:http://usasean.memberzone.com/events/details/2014-acw-golf-tournament-08-08-2014-1190
END:VEVENT

END:VCALENDAR
