BEGIN:VCALENDAR
VERSION:2.0
PRODID:-//ChamberMaster//Event Calendar 2.0//EN
METHOD:PUBLISH
X-PUBLISHED-TTL:P3D
REFRESH-INTERVAL:P3D
CALSCALE:GREGORIAN
BEGIN:VEVENT
DTSTART;VALUE=DATE:20131021
DTEND;VALUE=DATE:20131024
TRANSP:TRANSPARENT
X-MICROSOFT-CDO-ALLDAYEVENT:TRUE
SUMMARY:2013 USABC Philippines Business Mission
DESCRIPTION:2013 Senior Executives Business Mission to the Philippines
X-ALT-DESC;FMTTYPE=text/html:2013 Senior Executives Business Mission to the Philippines&nbsp\;&nbsp\;&nbsp\;&nbsp\;&nbsp\;&nbsp\;&nbsp\;&nbsp\;&nbsp\;&nbsp\;&nbsp\;&nbsp\;&nbsp\;&nbsp\;&nbsp\;&nbsp\;
LOCATION:Manila\, Philippines
UID:e.9078.898
SEQUENCE:3
DTSTAMP:20260421T123834Z
URL:http://usasean.memberzone.com/events/details/2013-usabc-philippines-business-mission-10-21-2013-898
END:VEVENT

END:VCALENDAR
