BEGIN:VCALENDAR
VERSION:2.0
PRODID:-//ChamberMaster//Event Calendar 2.0//EN
METHOD:PUBLISH
X-PUBLISHED-TTL:P3D
REFRESH-INTERVAL:P3D
CALSCALE:GREGORIAN
BEGIN:VEVENT
DTSTART;VALUE=DATE:20111012
DTEND;VALUE=DATE:20111014
TRANSP:TRANSPARENT
X-MICROSOFT-CDO-ALLDAYEVENT:TRUE
SUMMARY:2011 Thailand Business Pre-Mission Conference Call - Oct 12 2011
DESCRIPTION:
X-ALT-DESC;FMTTYPE=text/html:
LOCATION:
UID:e.9078.302
SEQUENCE:3
DTSTAMP:20260425T222615Z
URL:http://usasean.memberzone.com/events/details/2011-thailand-business-pre-mission-conference-call-oct-12-2011-10-12-2011-302
END:VEVENT

END:VCALENDAR
