BEGIN:VCALENDAR
VERSION:2.0
PRODID:-//ChamberMaster//Event Calendar 2.0//EN
METHOD:PUBLISH
X-PUBLISHED-TTL:P3D
REFRESH-INTERVAL:P3D
CALSCALE:GREGORIAN
BEGIN:VEVENT
DTSTART;VALUE=DATE:20110717
DTEND;VALUE=DATE:20110723
TRANSP:TRANSPARENT
X-MICROSOFT-CDO-ALLDAYEVENT:TRUE
SUMMARY:2011 BN-MY-SG Business Mission - Jul 17 2011
DESCRIPTION:
X-ALT-DESC;FMTTYPE=text/html:
LOCATION:
UID:e.9078.298
SEQUENCE:3
DTSTAMP:20260426T033508Z
URL:http://usasean.memberzone.com/events/details/2011-bn-my-sg-business-mission-jul-17-2011-07-17-2011-298
END:VEVENT

END:VCALENDAR
