BEGIN:VCALENDAR
VERSION:2.0
PRODID:-//ChamberMaster//Event Calendar 2.0//EN
METHOD:PUBLISH
X-PUBLISHED-TTL:P3D
REFRESH-INTERVAL:P3D
CALSCALE:GREGORIAN
BEGIN:VEVENT
DTSTART:20180419T013000Z
DTEND:20180419T023000Z
X-MICROSOFT-CDO-ALLDAYEVENT:FALSE
SUMMARY:1st Planning Call for the Food & Agriculture Industry Mission to Indonesia
DESCRIPTION:Please join us for the 1st Planning Call for the 2018 Food & Agriculture Industry Mission to Indonesia (May 8-9). The call will provide information on the upcoming mission planning\, themes\, meeting targets\, and logistics. \n\n\n\nAgenda and dial-in details will be sent to members at a date closer to the call.
X-ALT-DESC;FMTTYPE=text/html:Please join us for the 1st Planning Call for the 2018 Food &amp\; Agriculture Industry Mission to Indonesia (May 8-9). The call will provide information on the upcoming mission planning\, themes\, meeting targets\, and logistics.&nbsp\;<br />\n<br />\nAgenda and dial-in details will be sent to members at a date closer to the call.
LOCATION:Conference Call
UID:e.9078.6519
SEQUENCE:3
DTSTAMP:20260419T204059Z
URL:http://usasean.memberzone.com/events/details/1st-planning-call-for-the-food-agriculture-industry-mission-to-indonesia-6519
END:VEVENT

END:VCALENDAR
