BEGIN:VCALENDAR
VERSION:2.0
PRODID:-//ChamberMaster//Event Calendar 2.0//EN
METHOD:PUBLISH
X-PUBLISHED-TTL:P3D
REFRESH-INTERVAL:P3D
CALSCALE:GREGORIAN
BEGIN:VEVENT
DTSTART:20181219T000000Z
DTEND:20181219T010000Z
X-MICROSOFT-CDO-ALLDAYEVENT:FALSE
SUMMARY:1st Planning Call for the 2019 Business Mission to the 22nd Meeting of ASEAN Tourism Ministers (M-ATM)
DESCRIPTION:Date/ Time:\n\nTuesday\, 18 December 2018 - 7:00 - 8:00 PM (Washington\, DC Time) or\n\nWednesday\, 19 December 2018 - 8:00 - 9:00 AM (Singapore Time)\n\n\n\nPlease join the Council for the first of two planning calls for the 2019 Business Mission to the 22nd Meeting of ASEAN Tourism Ministers (M-ATM) in Ha Long\, Vietnam. The discussion agenda will be as follows:\n\n	Mission objectives\, desired outcomes and logistics\n	Overview of three planned engagements: \n	\n		Consultation session with the ASEAN Tourism Ministers\n		Bilateral meetings with the individual Ministers\n		Cocktail event
X-ALT-DESC;FMTTYPE=text/html:<span style="font-size:14px\;"><span style="font-family:arial\;">Date/ Time:<br />\nTuesday\, 18 December 2018 - 7:00 - 8:00 PM (Washington\, DC Time) or<br />\nWednesday\, 19 December 2018 - 8:00 - 9:00 AM (Singapore Time)<br />\n<br />\nPlease join the Council for the first of&nbsp\;two planning calls for the 2019 Business Mission to the 22nd Meeting of ASEAN Tourism Ministers (M-ATM) in Ha Long\, Vietnam. The discussion agenda will be as follows:</span></span>\n<ul>\n	<li style="text-align:justify\;"><span style="font-size:14px\;"><span style="font-family:arial\;">Mission objectives\, desired outcomes&nbsp\;and logistics</span></span></li>\n	<li style="text-align:justify\;"><span style="font-size:14px\;"><span style="font-family:arial\;">Overview of three planned engagements: </span></span>\n	<ul>\n		<li style="text-align:justify\;"><span style="font-size:14px\;"><span style="font-family:arial\;">Consultation session with the ASEAN Tourism Ministers</span></span></li>\n		<li style="text-align:justify\;"><span style="font-size:14px\;"><span style="font-family:arial\;">Bilateral meetings with the individual Ministers</span></span></li>\n		<li style="text-align:justify\;"><span style="font-size:14px\;"><span style="font-family:arial\;">Cocktail event</span></span></li>\n	</ul>\n	</li>\n</ul>\n
LOCATION:
UID:e.9078.7761
SEQUENCE:3
DTSTAMP:20260425T125858Z
URL:http://usasean.memberzone.com/events/details/1st-planning-call-for-the-2019-business-mission-to-the-22nd-meeting-of-asean-tourism-ministers-m-atm-7761
END:VEVENT

END:VCALENDAR
