BEGIN:VCALENDAR
VERSION:2.0
PRODID:-//ChamberMaster//Event Calendar 2.0//EN
METHOD:PUBLISH
X-PUBLISHED-TTL:P3D
REFRESH-INTERVAL:P3D
CALSCALE:GREGORIAN
BEGIN:VEVENT
DTSTART:20190801T010000Z
DTEND:20190801T020000Z
X-MICROSOFT-CDO-ALLDAYEVENT:FALSE
SUMMARY:1st Planning Call for the 2019 ASEAN Ministerial Conference on Cybersecurity Industry-led Breakfast
DESCRIPTION:
X-ALT-DESC;FMTTYPE=text/html:
LOCATION:Dial-in
UID:e.9078.7963
SEQUENCE:3
DTSTAMP:20260424T224219Z
URL:http://usasean.memberzone.com/events/details/1st-planning-call-for-the-2019-asean-ministerial-conference-on-cybersecurity-industry-led-breakfast-7963
END:VEVENT

END:VCALENDAR
