BEGIN:VCALENDAR
VERSION:2.0
PRODID:-//ChamberMaster//Event Calendar 2.0//EN
METHOD:PUBLISH
X-PUBLISHED-TTL:P3D
REFRESH-INTERVAL:P3D
CALSCALE:GREGORIAN
BEGIN:VEVENT
DTSTART:20180913T130000Z
DTEND:20180913T140000Z
X-MICROSOFT-CDO-ALLDAYEVENT:FALSE
SUMMARY:1st Planning Call for the 2018 Malaysia Business Mission
DESCRIPTION:Please join us for our first planning call for the 2018 Malaysia Business Mission (October 16-18).
X-ALT-DESC;FMTTYPE=text/html:<span style="font-size:18px\;"><span style="font-family:times new roman\;">Please join us for our first planning call for the 2018 Malaysia Business Mission (October 16-18).</span></span>
LOCATION:Call-in details and agenda will be distributed to registrants prior to the call.
UID:e.9078.7665
SEQUENCE:3
DTSTAMP:20260420T062519Z
URL:http://usasean.memberzone.com/events/details/1st-planning-call-for-the-2018-malaysia-business-mission-7665
END:VEVENT

END:VCALENDAR
