BEGIN:VCALENDAR
VERSION:2.0
PRODID:-//ChamberMaster//Event Calendar 2.0//EN
METHOD:PUBLISH
X-PUBLISHED-TTL:P3D
REFRESH-INTERVAL:P3D
CALSCALE:GREGORIAN
BEGIN:VEVENT
DTSTART:20191029T140000Z
DTEND:20191029T150000Z
X-MICROSOFT-CDO-ALLDAYEVENT:FALSE
SUMMARY:1st Planning Call for 2019 Indonesia Business Mission
DESCRIPTION:
X-ALT-DESC;FMTTYPE=text/html:
LOCATION:
UID:e.9078.8058
SEQUENCE:3
DTSTAMP:20260424T195319Z
URL:http://usasean.memberzone.com/events/details/1st-planning-call-for-2019-indonesia-business-mission-8058
END:VEVENT

END:VCALENDAR
