BEGIN:VCALENDAR
VERSION:2.0
PRODID:-//ChamberMaster//Event Calendar 2.0//EN
METHOD:PUBLISH
X-PUBLISHED-TTL:P3D
REFRESH-INTERVAL:P3D
CALSCALE:GREGORIAN
BEGIN:VEVENT
DTSTART:20230510T003000Z
DTEND:20230510T013000Z
X-MICROSOFT-CDO-ALLDAYEVENT:FALSE
SUMMARY:1st Planning Call: Food & Agriculture Industry Mission to Indonesia
DESCRIPTION:Dear Members\, \n\n\n\nThe Council is pleased to invite you to the 1st Planning Call for the Food & Agriculture Industry Mission to Indonesia. We will be joined by the Indonesian Agriculture Attach  to the United States\, Pak Danang Budi Santoso\, who will be our guest speaker. During this call we aim to discuss the overall mission objectives\, our proposed meetings with the Indonesian government\, deadlines for mission registration\, and member food & agriculture policy priorities.
X-ALT-DESC;FMTTYPE=text/html:<span style="color:#212121\;"><span style="font-family:arial\,sans-serif\;"><span style="font-size:10pt\;">Dear Members\,&nbsp\;<br />\n<br />\nThe Council is pleased to invite you to the 1st Planning Call for the Food &amp\; Agriculture Industry Mission to Indonesia. We will be joined by the Indonesian Agriculture&nbsp\;Attach&eacute\;&nbsp\;to the United States\, Pak Danang Budi Santoso\, who will be our guest speaker.&nbsp\;During this call we aim to discuss the overall mission objectives\, our proposed meetings with the Indonesian government\, deadlines for mission registration\, and member food &amp\; agriculture policy priorities.&nbsp\;</span></span></span>
LOCATION:Please use this Zoom Link to join the call.
UID:e.9078.9020
SEQUENCE:3
DTSTAMP:20260421T125050Z
URL:http://usasean.memberzone.com/events/details/1st-planning-call-food-agriculture-industry-mission-to-indonesia-9020
END:VEVENT

END:VCALENDAR
