BEGIN:VCALENDAR
VERSION:2.0
PRODID:-//ChamberMaster//Event Calendar 2.0//EN
METHOD:PUBLISH
X-PUBLISHED-TTL:P3D
REFRESH-INTERVAL:P3D
CALSCALE:GREGORIAN
BEGIN:VEVENT
DTSTART:20180606T010000Z
DTEND:20180606T040000Z
X-MICROSOFT-CDO-ALLDAYEVENT:FALSE
SUMMARY:1st Meeting of Singapore Joint Cyber Security Working Group
DESCRIPTION:The Council is pleased to invite you to the first meeting of the Singapore Joint Cyber Security Working Group (JCSWG)\, a collaboration between Singapore's Cyber Security Agency (CSA)\, the U.S. Embassy in Singapore\, and U.S. industry and trade associations. This first meeting will focus on "ASEAN Cyber Security Capacity Building and Ecosystem Development" with presentations by CSA and the U.S. Embassy on capacity building initiatives and potential partnership opportunities.\n\n\n\nThere will be a session for industry representatives to share perspectives on ASEAN cybersecurity development. If you are interested in making a brief presentation\, please contact Sunita Kapoor. Note that there will be a planning call for all speakers on May 30 at 10:00 AM.  Participants will also consider themes for future meetings and decide on a tentative schedule for the remainder of 2018.
X-ALT-DESC;FMTTYPE=text/html:<span style="font-size:14px\;"><span style="font-family: arial\, sans-serif\;">The Council is pleased to invite you to the first meeting of the Singapore Joint Cyber Security Working Group (</span>JCSWG<span style="font-family: arial\, sans-serif\;">)\, a collaboration between Singapore&#39\;s Cyber Security Agency (CSA)\, the U.S. Embassy in Singapore\, and U.S. industry and trade associations. This first meeting will focus on &quot\;ASEAN Cyber Security Capacity Building and Ecosystem Development&quot\; with presentations by CSA and the U.S. Embassy on capacity building initiatives and potential partnership opportunities.</span><br style="font-family: arial\, sans-serif\; font-size: 16px\;" />\n<br style="font-family: arial\, sans-serif\; font-size: 16px\;" />\n<span style="font-family: arial\, sans-serif\;">There will be a session for industry representatives to share perspectives on ASEAN&nbsp\;</span>cybersecurity<span style="font-family: arial\, sans-serif\;">&nbsp\;development. If you are interested in making a brief presentation\, please contact&nbsp\;</span><a href="mailto:skapoor@usasean.org" style="font-family: arial\, sans-serif\; font-size: 16px\;">Sunita&nbsp\;Kapoor</a><span style="font-family: arial\, sans-serif\;">. Note that there will be a planning call for all speakers on May 30 at 10:</span>00 AM<span style="font-family: arial\, sans-serif\;">. &nbsp\;Participants will also consider themes for future meetings and decide on a tentative schedule for the remainder of 2018.</span></span>
LOCATION:Cyber Security Agency Offices 5 Maxwell Road
UID:e.9078.6566
SEQUENCE:3
DTSTAMP:20260419T235530Z
URL:http://usasean.memberzone.com/events/details/1st-meeting-of-singapore-joint-cyber-security-working-group-6566
END:VEVENT

END:VCALENDAR
