BEGIN:VCALENDAR
VERSION:2.0
PRODID:-//ChamberMaster//Event Calendar 2.0//EN
METHOD:PUBLISH
X-PUBLISHED-TTL:P3D
REFRESH-INTERVAL:P3D
CALSCALE:GREGORIAN
BEGIN:VEVENT
DTSTART:20190308T010000Z
DTEND:20190308T020000Z
X-MICROSOFT-CDO-ALLDAYEVENT:FALSE
SUMMARY:1st Data Governance Sub-Committee Meeting
DESCRIPTION:Please join the Council for our first meeting of the Data Governance Sub-Committee. The purpose of this first meeting is to establish the goals and priorities of the Sub-Committee\, and for all participants to share their individual companies' data governance perspectives and positions. The goal of subsequent meetings will be to consolidate these positions into a unified set US-ASEAN Business Council-specific guiding principles on Data Governance in ASEAN. Please contact Shay Wester (swester@usasean.org) or Ella Duangkaew (eduangkaew@usasean.org) with any questions. \n\n\n\nBackground\n\n\n\nThe Council was called to create a working group/sub-committee on Data Governance during our first ICT Committee In-Person Meeting on February 15. The purpose of this Data Governance sub-committee is to develop regional and in-country guiding principles on data governance in ASEAN. These principles will be developed by Council members\, and be used by Council members during our engagements throughout the year. \n\n\n\nThe primary goal of the sub-committee is to develop a concrete set of ASEAN and in-country guiding principles for data governance to present at the 3rd 2019 Digital Policy Consultative Forum (DPCF) in Thailand in August\, which will focus on how ASEAN can become a leader in digital data governance. \n\n\n\nThe Data Governance Sub-Committee will be led by a Vice Chair of the ICT Committee and report its activities to the ICT Committee during the monthly ICT Committee in-person meetings. However\, the sub-committee is open to all members of any committee of the Council (not exclusive to ICT). Please contact Shay Wester (swester@usasean.org) or Ella Duangkaew (eduangkaew@usasean.org) with any questions.
X-ALT-DESC;FMTTYPE=text/html:Please join the Council for our first meeting of the Data Governance Sub-Committee. <strong>The purpose of this first meeting is to establish the goals and priorities of the Sub-Committee\, and for all participants to share their individual companies&#39\; data governance&nbsp\;perspectives and positions.&nbsp\;</strong>The goal of subsequent meetings will be to consolidate these positions into a unified set US-ASEAN Business Council-specific guiding principles on Data Governance in ASEAN. Please contact Shay Wester (swester@usasean.org) or Ella Duangkaew (eduangkaew@usasean.org) with any questions.&nbsp\;<br />\n<br />\n<u>Background</u><br />\n<br />\nThe Council was called to create a working group/sub-committee on Data Governance during our first ICT Committee In-Person Meeting on February 15. The purpose of this Data Governance sub-committee is to develop regional and in-country guiding principles on data governance in ASEAN. These principles will be developed by Council members\, and be used by Council members during our engagements throughout the year.&nbsp\;<br />\n<br />\n<strong>The primary goal of the sub-committee is to develop a concrete set of ASEAN and in-country&nbsp\;guiding principles for data governance to present at the 3rd 2019 Digital Policy Consultative Forum (DPCF) in Thailand in August\, which will focus on how ASEAN can become a leader in digital data governance.&nbsp\;</strong><br />\n<br />\nThe Data Governance Sub-Committee will be led by a Vice Chair of the ICT Committee and report its activities to the ICT Committee during the monthly ICT Committee in-person meetings. However\, the sub-committee is open to all members of any committee of the Council (not exclusive to ICT).&nbsp\;Please contact Shay Wester (swester@usasean.org) or Ella Duangkaew (eduangkaew@usasean.org) with any questions.&nbsp\;
LOCATION:US-ASEAN Business Council Singapore 100 Beach Road\, Shaw Tower\, #22-04/05 Singapore 189702 Dial-In Option Available
UID:e.9078.7818
SEQUENCE:3
DTSTAMP:20260420T123524Z
URL:http://usasean.memberzone.com/events/details/1st-data-governance-sub-committee-meeting-7818
END:VEVENT

END:VCALENDAR
